BEGIN:VCALENDAR
VERSION:2.0
PRODID:-//Octubre Centre de Cultura Contemporània - ECPv5.1.6//NONSGML v1.0//EN
CALSCALE:GREGORIAN
METHOD:PUBLISH
X-WR-CALNAME:Octubre Centre de Cultura Contemporània
X-ORIGINAL-URL:https://octubre.cat
X-WR-CALDESC:Events for Octubre Centre de Cultura Contemporània
BEGIN:VTIMEZONE
TZID:Europe/Andorra
BEGIN:DAYLIGHT
TZOFFSETFROM:+0100
TZOFFSETTO:+0200
TZNAME:CEST
DTSTART:20110327T010000
END:DAYLIGHT
BEGIN:STANDARD
TZOFFSETFROM:+0200
TZOFFSETTO:+0100
TZNAME:CET
DTSTART:20111030T010000
END:STANDARD
END:VTIMEZONE
BEGIN:VEVENT
DTSTART;TZID=Europe/Andorra:20110512T190000
DTEND;TZID=Europe/Andorra:20110512T190000
DTSTAMP:20260421T043524
CREATED:20200729T165526Z
LAST-MODIFIED:20200730T042820Z
UID:9229-1305226800-1305226800@octubre.cat
SUMMARY:Manuel Sanchis Guarner\, ciutadania\, estudi i llengua
DESCRIPTION:Dijous 12 de maig\, a les 19.00h: “Manuel Sanchis Guarner\, ciutadania\, estudi i llengua”\, amb Jordi Sales\, Miquel Nicolàs i Josep Guia.   \n  \n  \n\nHomenatge a Manuel Sanchis Guarner en l’any del centenari del seu naixement  Manuel Sanchis Guarner\, ciutadania\, estudi i llengua  Amb la participació de: Jordi Sales (president de la Universitat Catalana d’Estiu) Miquel Nicolàs (Universitat de València) Josep Guia (Universitat de València).  Organitza: Universitat Catalana d’Estiu.
URL:https://octubre.cat/activitat/manuel-sanchis-guarner-ciutadania-estudi-i-llengua/
LOCATION:No definit
CATEGORIES:Literatura
ATTACH;FMTTYPE=image/jpeg:https://octubre.cat/www/wp-content/uploads/2020/07/activitat1457.jpg
END:VEVENT
END:VCALENDAR