BEGIN:VCALENDAR
VERSION:2.0
PRODID:-//Octubre Centre de Cultura Contemporània - ECPv5.1.6//NONSGML v1.0//EN
CALSCALE:GREGORIAN
METHOD:PUBLISH
X-WR-CALNAME:Octubre Centre de Cultura Contemporània
X-ORIGINAL-URL:https://octubre.cat
X-WR-CALDESC:Events for Octubre Centre de Cultura Contemporània
BEGIN:VTIMEZONE
TZID:Europe/Andorra
BEGIN:DAYLIGHT
TZOFFSETFROM:+0100
TZOFFSETTO:+0200
TZNAME:CEST
DTSTART:20100328T010000
END:DAYLIGHT
BEGIN:STANDARD
TZOFFSETFROM:+0200
TZOFFSETTO:+0100
TZNAME:CET
DTSTART:20101031T010000
END:STANDARD
END:VTIMEZONE
BEGIN:VEVENT
DTSTART;TZID=Europe/Andorra:20101125T193000
DTEND;TZID=Europe/Andorra:20101125T193000
DTSTAMP:20260420T143932
CREATED:20200729T165209Z
LAST-MODIFIED:20200730T042623Z
UID:9024-1290713400-1290713400@octubre.cat
SUMMARY:Manuel Molins i Josep Enric Gonga
DESCRIPTION:Dijous 25 de novembre\, a les 19.30h: Manuel Molins i Josep Enric Gonga.   \n  \n  \n\nManuel Molins i Casaña (Alfara del Patriarca\, 1946)\, és professor i dramaturg. Es va llicenciar a les Universitats de Santo Tommasso de Roma i de València\, però la seua formació teatral és producte d’una activitat personal intensa\, continuada i independent. Va fundar el Grup 49 de teatre amb el qual va participar en el moviment de Teatre Independent que intentava als anys 70 la recuperació de la llengua i cultura pròpies del País Valencià. El seu treball es centra en la dramatúrgia\, no sols com a escriptor\, sinó també com a element intern dels muntatges escènics. D’entre les seues obres i adaptacions es poden destacar: Quatre Històries d’Amor per a la Reina Germana (1981)\, Ni tan alts ni tan rics (1989)\, Abú Magrib (2002)\, Elisa (2003) o Dones\, dones\, dones (2009). Ha obtingut diversos premis literaris i ha col·laborat amb estaments oficials per al suport del Teatre.   Josep Enric Gonga (Gandia\, 1950) és actor\, membre del grup Pluja Teatre\, del qual n’és soci cooperativista. Ha col·laborat amb diversos mitjans de comunicació i publicacions científiques i culturals\, com ara El dàtil\, Bagalina\, El·lipsi\, Levante-EMV o Daina. És autor de narracions curtes\, teatre\, assaig i novel·les\, entre les quals destaquen algunes com Rondalla de mariner errabund (premi Malva-rosa de narrativa 1978)\, Somnis d’estiu (premi Ciutat d’Ibi 1985)\, El somni del mirall (premi Ciutat de Palma 1986) i Trinquet Trincat (premi de Literatura Eròtica la Vall d’Albaida 1998). També és escriptor d’assajos com el de Les festes de la Safor\, La ciutat i els costums i El teatre a la Safor (1939-2000). Seixanta anys de societat i espectacle.
URL:https://octubre.cat/activitat/manuel-molins-i-josep-enric-gonga/
LOCATION:No definit
CATEGORIES:Escriptors al terrat
ATTACH;FMTTYPE=image/jpeg:https://octubre.cat/www/wp-content/uploads/2020/07/activitat1301.jpg
END:VEVENT
END:VCALENDAR