BEGIN:VCALENDAR
VERSION:2.0
PRODID:-//Octubre Centre de Cultura Contemporània - ECPv5.1.6//NONSGML v1.0//EN
CALSCALE:GREGORIAN
METHOD:PUBLISH
X-WR-CALNAME:Octubre Centre de Cultura Contemporània
X-ORIGINAL-URL:https://octubre.cat
X-WR-CALDESC:Events for Octubre Centre de Cultura Contemporània
BEGIN:VTIMEZONE
TZID:Europe/Andorra
BEGIN:DAYLIGHT
TZOFFSETFROM:+0100
TZOFFSETTO:+0200
TZNAME:CEST
DTSTART:20100328T010000
END:DAYLIGHT
BEGIN:STANDARD
TZOFFSETFROM:+0200
TZOFFSETTO:+0100
TZNAME:CET
DTSTART:20101031T010000
END:STANDARD
END:VTIMEZONE
BEGIN:VEVENT
DTSTART;TZID=Europe/Andorra:20100325T200000
DTEND;TZID=Europe/Andorra:20100325T200000
DTSTAMP:20260420T211459
CREATED:20200729T164817Z
LAST-MODIFIED:20200729T182848Z
UID:8778-1269547200-1269547200@octubre.cat
SUMMARY:Manolo Tarancón
DESCRIPTION:Dijous 25 de març\, a les 20.00h: Manolo Tarancón (València). Atenció! El concert estava previst inicialment a les 22.30h\, però s’avança a les 20.00h.   \n  \n  \n\nAmb 16 anys\, Manolo Tarancón va agafar la seua primera guitarra i començà a aprendre\, de manera autodidacta\, alguns acords bàsics. A finals de 2004 va veure la llum la seua primera maqueta\, Sin saber dónde voy. L’any següent publica Desde mi interior (Musice Records)\, un treball ja professional enregistrat en els estudis Blackout de València\, que va rebre molt bones crítiques. La discogràfica Batiendo Records decidiria remasteritzar-lo coincidint amb la seua primera gira estatal. L’abril de 2007 obri\, al costat de Quique González\, el Cicle Gandiautor 2007\, i el mateix any grava el seu segon treball Más allá de uno mismo\, on comptaria amb la col·laboració\, fins i tot\, de Nacho Vegas. L’octubre de 2009 presenta Imperfectos\, disc en el qual introdueix novetats respecte al que\, fins aleshores\, havia sigut el seu so personal. La gira de presentació d’aquest àlbum\, que va començar el novembre\, el porta ara fins al Cicle de pop de l’Octubre.
URL:https://octubre.cat/activitat/manolo-tarancon/
LOCATION:No definit
CATEGORIES:Cicle de música pop
ATTACH;FMTTYPE=image/jpeg:https://octubre.cat/www/wp-content/uploads/2020/07/activitat1124.jpg
END:VEVENT
END:VCALENDAR