BEGIN:VCALENDAR
VERSION:2.0
PRODID:-//Octubre Centre de Cultura Contemporània - ECPv5.1.6//NONSGML v1.0//EN
CALSCALE:GREGORIAN
METHOD:PUBLISH
X-WR-CALNAME:Octubre Centre de Cultura Contemporània
X-ORIGINAL-URL:https://octubre.cat
X-WR-CALDESC:Events for Octubre Centre de Cultura Contemporània
BEGIN:VTIMEZONE
TZID:Europe/Andorra
BEGIN:DAYLIGHT
TZOFFSETFROM:+0100
TZOFFSETTO:+0200
TZNAME:CEST
DTSTART:20190331T010000
END:DAYLIGHT
BEGIN:STANDARD
TZOFFSETFROM:+0200
TZOFFSETTO:+0100
TZNAME:CET
DTSTART:20191027T010000
END:STANDARD
END:VTIMEZONE
BEGIN:VEVENT
DTSTART;TZID=Europe/Andorra:20190305T190000
DTEND;TZID=Europe/Andorra:20190305T190000
DTSTAMP:20260423T052839
CREATED:20200729T173305Z
LAST-MODIFIED:20200729T191046Z
UID:11371-1551812400-1551812400@octubre.cat
SUMMARY:"Malasartes - E o duelo com a morte"\, de Paulo Morelli
DESCRIPTION:Dimarts 5 de març a les 19.00h. Projecció inclosa en Novocine – Mostra de cinema brasiler. Entrada lliure.	 \n  \n  \n\n 	 Comèdia sobre les aventures de Pedro Malasartes\, personatge tradicional del folklore iberoamericà que viu de petits tripijocs. Malasartes haurà d’enfrontar-se amb dos grans enemics: Próspero\, que no vol que la seua germana Aurea es convertisca en la seua núvia perquè el considera un malfaener; i la Mort que\, cansada de segar vides\, vol que Malasartes ocupe el seu lloc. Si no n’hi ha prou amb el pla de la Mort i les ganes de Próspero d’escanyar-lo\, Malasartes haurà de lidiar també amb la bruixa Parca Cortadeira i amb l’ajudant de la Mort\, Esculápio\, que desitgen per a ells mateixa el lloc que la Mort pretén deixar.  Direcció i guió: Paulo Morelli (2017) Repartiment: Jesus Barbosa\, Isis Valverde\, Julio Andrade\, Milhem Cortaz\, Leandro Hassum\, Vera Holtz\, Julia Ianina. Productora: Globo Filmes\, 02 Filmes Productor: Andrea Barata Ribeiro\, Paulo Morelli\, Bel Berlinck Distribuïdora: Paris Films Durada: 108’  Premi als Millors Efectes Especials del Gran Premi del Cinema Brasiler
URL:https://octubre.cat/activitat/malasartes-e-o-duelo-com-a-morte-de-paulo-morelli/
LOCATION:Sala d’actes
CATEGORIES:Cinema
ATTACH;FMTTYPE=image/jpeg:https://octubre.cat/www/wp-content/uploads/2020/07/activitat3216.jpg
END:VEVENT
END:VCALENDAR