BEGIN:VCALENDAR
VERSION:2.0
PRODID:-//Octubre Centre de Cultura Contemporània - ECPv5.1.6//NONSGML v1.0//EN
CALSCALE:GREGORIAN
METHOD:PUBLISH
X-WR-CALNAME:Octubre Centre de Cultura Contemporània
X-ORIGINAL-URL:https://octubre.cat
X-WR-CALDESC:Events for Octubre Centre de Cultura Contemporània
BEGIN:VTIMEZONE
TZID:Europe/Andorra
BEGIN:DAYLIGHT
TZOFFSETFROM:+0100
TZOFFSETTO:+0200
TZNAME:CEST
DTSTART:20070325T010000
END:DAYLIGHT
BEGIN:STANDARD
TZOFFSETFROM:+0200
TZOFFSETTO:+0100
TZNAME:CET
DTSTART:20071028T010000
END:STANDARD
END:VTIMEZONE
BEGIN:VEVENT
DTSTART;TZID=Europe/Andorra:20071018T200000
DTEND;TZID=Europe/Andorra:20071018T200000
DTSTAMP:20260421T023923
CREATED:20200729T181515Z
LAST-MODIFIED:20200730T035450Z
UID:12363-1192737600-1192737600@octubre.cat
SUMMARY:Maika Makovski
DESCRIPTION:La cantant de les Illes Balears actuarà el proper 18 d’octubre a les 20h  \n  \n  \n\nAquesta cantant de les Illes Balears (de procedència macedònica i afincada a Nova York)\, acaba de publicar “Kraj So Kóferot”\, el seu segon àlbum\, i molt probablement el disc que la convertirà en estrella de la escena alternativa. Cantautora rock en el sentit més ample del terme\, en la seua música colisionen el folk (acústic) i el punk (elèctric)\, per treure el millor de PJ Harvey\, Neil Young\, Stooges\, Hole i Joni Mitchell. Presentació oficial del disc a València.
URL:https://octubre.cat/activitat/maika-makovski/
LOCATION:No definit
CATEGORIES:Cicle de música pop
ATTACH;FMTTYPE=image/jpeg:https://octubre.cat/www/wp-content/uploads/2020/07/activitat332.jpg
END:VEVENT
END:VCALENDAR