BEGIN:VCALENDAR
VERSION:2.0
PRODID:-//Octubre Centre de Cultura Contemporània - ECPv5.1.6//NONSGML v1.0//EN
CALSCALE:GREGORIAN
METHOD:PUBLISH
X-WR-CALNAME:Octubre Centre de Cultura Contemporània
X-ORIGINAL-URL:https://octubre.cat
X-WR-CALDESC:Events for Octubre Centre de Cultura Contemporània
BEGIN:VTIMEZONE
TZID:Europe/Andorra
BEGIN:DAYLIGHT
TZOFFSETFROM:+0100
TZOFFSETTO:+0200
TZNAME:CEST
DTSTART:20080330T010000
END:DAYLIGHT
BEGIN:STANDARD
TZOFFSETFROM:+0200
TZOFFSETTO:+0100
TZNAME:CET
DTSTART:20081026T010000
END:STANDARD
END:VTIMEZONE
BEGIN:VEVENT
DTSTART;TZID=Europe/Andorra:20080530T183000
DTEND;TZID=Europe/Andorra:20080530T183000
DTSTAMP:20260421T062610
CREATED:20200729T181920Z
LAST-MODIFIED:20200730T035755Z
UID:12600-1212172200-1212172200@octubre.cat
SUMMARY:Maig 1968-2008: continuem el combat
DESCRIPTION:“Maig 1968-2008: continuem el combat”  Xerrada-debat amb Miguel Romero\, director de “Viento Sur”. Organitza: Espai Alternatiu
URL:https://octubre.cat/activitat/maig-1968-2008-continuem-el-combat/
LOCATION:No definit
CATEGORIES:Literatura
ATTACH;FMTTYPE=image/jpeg:https://octubre.cat/www/wp-content/uploads/2020/07/presentacions1.jpg
END:VEVENT
END:VCALENDAR