BEGIN:VCALENDAR
VERSION:2.0
PRODID:-//Octubre Centre de Cultura Contemporània - ECPv5.1.6//NONSGML v1.0//EN
CALSCALE:GREGORIAN
METHOD:PUBLISH
X-WR-CALNAME:Octubre Centre de Cultura Contemporània
X-ORIGINAL-URL:https://octubre.cat
X-WR-CALDESC:Events for Octubre Centre de Cultura Contemporània
BEGIN:VTIMEZONE
TZID:Europe/Andorra
BEGIN:DAYLIGHT
TZOFFSETFROM:+0100
TZOFFSETTO:+0200
TZNAME:CEST
DTSTART:20160327T010000
END:DAYLIGHT
BEGIN:STANDARD
TZOFFSETFROM:+0200
TZOFFSETTO:+0100
TZNAME:CET
DTSTART:20161030T010000
END:STANDARD
END:VTIMEZONE
BEGIN:VEVENT
DTSTART;TZID=Europe/Andorra:20160916T200000
DTEND;TZID=Europe/Andorra:20160916T200000
DTSTAMP:20260421T151607
CREATED:20200729T172000Z
LAST-MODIFIED:20200729T185550Z
UID:10756-1474056000-1474056000@octubre.cat
SUMMARY:Lüla Reyna
DESCRIPTION:Divendres 16 de setembre a les 20.00h. Acompanyada a la guitarra per Miquel Pérez Perelló. Entrades a 6 i 8 €  \n  \n  \n\n La cantant i compositora mexicana Lüla Reyna presenta una fusió elegant i renovadora de la música mexicana amb d’altres músiques del món en un concert emocionant ple de relats\, colors i sons exquisits. Forma un duet explosiu amb el mestre Miquel Pérez Perelló a la guitarra espanyola per interpretar junts un repertori amb cançons entranyables de compositors consagrats i també amb temis inèdits de la pròpia cantant.   Apertura de portes: 19.30h Entrades: 8€ Anticipades a notikumi.com: 6€  — Espai Octubre Concerts és una iniciativa de l’Octubre CCC gestionada per les productores musicals Metrònom\, Play Producciones\,  Mésdemil i lacasacalba.org.
URL:https://octubre.cat/activitat/lula-reyna/
CATEGORIES:Espai Octubre Concerts
ATTACH;FMTTYPE=image/jpeg:https://octubre.cat/www/wp-content/uploads/2020/07/activitat2632.jpg
END:VEVENT
END:VCALENDAR