BEGIN:VCALENDAR
VERSION:2.0
PRODID:-//Octubre Centre de Cultura Contemporània - ECPv5.1.6//NONSGML v1.0//EN
CALSCALE:GREGORIAN
METHOD:PUBLISH
X-WR-CALNAME:Octubre Centre de Cultura Contemporània
X-ORIGINAL-URL:https://octubre.cat
X-WR-CALDESC:Events for Octubre Centre de Cultura Contemporània
BEGIN:VTIMEZONE
TZID:Europe/Andorra
BEGIN:DAYLIGHT
TZOFFSETFROM:+0100
TZOFFSETTO:+0200
TZNAME:CEST
DTSTART:20080330T010000
END:DAYLIGHT
BEGIN:STANDARD
TZOFFSETFROM:+0200
TZOFFSETTO:+0100
TZNAME:CET
DTSTART:20081026T010000
END:STANDARD
END:VTIMEZONE
BEGIN:VEVENT
DTSTART;TZID=Europe/Andorra:20080210T190000
DTEND;TZID=Europe/Andorra:20080210T190000
DTSTAMP:20260420T180822
CREATED:20200729T181717Z
LAST-MODIFIED:20200730T035621Z
UID:12480-1202670000-1202670000@octubre.cat
SUMMARY:Lucas Jiménez Quartet
DESCRIPTION:Diumenge 10\, 19.00h. Lucas Jiménez té una trajectòria professional excepcional\, que li ha permés treballar amb figures de la música com Lluís Llach\, Gerard Quintana\, Adrià Puntí\, Obrint Pas\, les Violines\, Raimundo Amador\, Quimi Portet\, Lucrecia\, etc.  \n  \n  \n\nLucas Jiménez té una trajectòria professional excepcional\, que li ha permés treballar amb figures de la música com Lluís Llach\, Gerard Quintana\, Adrià Puntí\, Obrint Pas\, les Violines\, Raimundo Amador\, Quimi Portet\, Lucrecia\, etc.
URL:https://octubre.cat/activitat/lucas-jimenez-quartet/
LOCATION:No definit
CATEGORIES:Diumenges de Jazz!
ATTACH;FMTTYPE=image/jpeg:https://octubre.cat/www/wp-content/uploads/2020/07/musica1.jpg
END:VEVENT
END:VCALENDAR