BEGIN:VCALENDAR
VERSION:2.0
PRODID:-//Octubre Centre de Cultura Contemporània - ECPv5.1.6//NONSGML v1.0//EN
CALSCALE:GREGORIAN
METHOD:PUBLISH
X-WR-CALNAME:Octubre Centre de Cultura Contemporània
X-ORIGINAL-URL:https://octubre.cat
X-WR-CALDESC:Events for Octubre Centre de Cultura Contemporània
BEGIN:VTIMEZONE
TZID:Europe/Andorra
BEGIN:DAYLIGHT
TZOFFSETFROM:+0100
TZOFFSETTO:+0200
TZNAME:CEST
DTSTART:20100328T010000
END:DAYLIGHT
BEGIN:STANDARD
TZOFFSETFROM:+0200
TZOFFSETTO:+0100
TZNAME:CET
DTSTART:20101031T010000
END:STANDARD
END:VTIMEZONE
BEGIN:VEVENT
DTSTART;TZID=Europe/Andorra:20100311T200000
DTEND;TZID=Europe/Andorra:20100311T200000
DTSTAMP:20260420T163928
CREATED:20200729T164752Z
LAST-MODIFIED:20200729T182824Z
UID:8753-1268337600-1268337600@octubre.cat
SUMMARY:Loudspeaker
DESCRIPTION:Dijous 11 de març\, a les 20.00h: Loudspeaker (Zbigniew Karkowski\, ILIOS & Antonie Chessex).   \n  \n  \n\nProjecte composat per tres artistes de reconegut prestigi en l’underground noise experimental internacional. Zbigniew Karkowski és tot un veterà i vell conegut dels seguidors de ((vibra)) –especialment\, de les seues oïdes– com ILIOS i els seus oscil·ladors\, i Antonie Chessex\, virtuós del saxo noise. Vistes les seues trajectòries individuals\, hom pot intuir com serà aquesta actuació: ras i curt\, un directe brutal amb el saxo i els efectes d’Antonie\, el baix de Zbigniew\, que\, sorpresa!\, deixa de costat el seu inseparable ordinador portàtil\, i l’oscil·lador d’ILIOS. Junts\, per primera vegada\, a l’Octubre.    Més informació:   www.antifrost.gr/loudspeaker.html www.soundimplant.com/achessex.html www.siteilios.gr www.myspace.com/zbigniewkarkowski
URL:https://octubre.cat/activitat/loudspeaker/
LOCATION:No definit
CATEGORIES:Vibra
ATTACH;FMTTYPE=image/jpeg:https://octubre.cat/www/wp-content/uploads/2020/07/activitat1098.jpg
END:VEVENT
END:VCALENDAR