BEGIN:VCALENDAR
VERSION:2.0
PRODID:-//Octubre Centre de Cultura Contemporània - ECPv5.1.6//NONSGML v1.0//EN
CALSCALE:GREGORIAN
METHOD:PUBLISH
X-WR-CALNAME:Octubre Centre de Cultura Contemporània
X-ORIGINAL-URL:https://octubre.cat
X-WR-CALDESC:Events for Octubre Centre de Cultura Contemporània
BEGIN:VTIMEZONE
TZID:Europe/Andorra
BEGIN:DAYLIGHT
TZOFFSETFROM:+0100
TZOFFSETTO:+0200
TZNAME:CEST
DTSTART:20070325T010000
END:DAYLIGHT
BEGIN:STANDARD
TZOFFSETFROM:+0200
TZOFFSETTO:+0100
TZNAME:CET
DTSTART:20071028T010000
END:STANDARD
END:VTIMEZONE
BEGIN:VEVENT
DTSTART;TZID=Europe/Andorra:20071215T190000
DTEND;TZID=Europe/Andorra:20071215T190000
DTSTAMP:20260420T210044
CREATED:20200729T181617Z
LAST-MODIFIED:20200730T035537Z
UID:12424-1197745200-1197745200@octubre.cat
SUMMARY:Los Torreznos i Soraya
DESCRIPTION:Los Torreznos (Madrid) són un duo d’exploració conceptual en el terreny social\, polític i dels costums més arrelats. El seu punt de partida és la realitat més directa\, inclosa la familiar. Los Torreznos són los Torreznos. Es van crear l’any 2000. Els seus components són Rafael Lamata i Jaime Vallaure\, que porten treballant junts des de 1992 en diferents projectes de creació tant pròpia com de generació d’espais i grups d’investigació artística independents\, com van ser la Zona de Acción Temporal i el Circo Interior Bruto. Los Torreznos pretenen ser un instrument senzill\, però rotund\, d’exploració dels afers\, temes i sensacions que ens interessen.  Soraya (València). L’any 2000 comença les seues classes a la Facultat de Belles Arts de València\, període en el qual aprén tot allò que no vol ser. En 2006 descobreix “Espaiart” (es diu de l’acció per part d’un individu que el du a expandir-se en el seu espai a través de l’art\, dit d’una altra manera\, a través de l’acció d’artistar\, de descobrir en l’espai i el temps que li rodeja tot allò que per a ell és art\, i per tant tot allò que no ho és)\, des d’aleshores practica i intenta ensenyar aquesta disciplina les 24h del dia\, o no\, depén de les ganes que tinga.
URL:https://octubre.cat/activitat/los-torreznos-i-soraya/
LOCATION:No definit
CATEGORIES:Arrt d'Accció
ATTACH;FMTTYPE=image/jpeg:https://octubre.cat/www/wp-content/uploads/2020/07/arrtacccio1.jpg
END:VEVENT
END:VCALENDAR