BEGIN:VCALENDAR
VERSION:2.0
PRODID:-//Octubre Centre de Cultura Contemporània - ECPv5.1.6//NONSGML v1.0//EN
CALSCALE:GREGORIAN
METHOD:PUBLISH
X-WR-CALNAME:Octubre Centre de Cultura Contemporània
X-ORIGINAL-URL:https://octubre.cat
X-WR-CALDESC:Events for Octubre Centre de Cultura Contemporània
BEGIN:VTIMEZONE
TZID:Europe/Andorra
BEGIN:DAYLIGHT
TZOFFSETFROM:+0100
TZOFFSETTO:+0200
TZNAME:CEST
DTSTART:20160327T010000
END:DAYLIGHT
BEGIN:STANDARD
TZOFFSETFROM:+0200
TZOFFSETTO:+0100
TZNAME:CET
DTSTART:20161030T010000
END:STANDARD
END:VTIMEZONE
BEGIN:VEVENT
DTSTART;TZID=Europe/Andorra:20161026T190000
DTEND;TZID=Europe/Andorra:20161026T190000
DTSTAMP:20260421T024126
CREATED:20200729T172120Z
LAST-MODIFIED:20200729T185625Z
UID:10838-1477508400-1477508400@octubre.cat
SUMMARY:'Los Tarantos'\, de Francesc Rovira Beleta
DESCRIPTION:Dimecres 26 d’octubre a les 19.00h. Projecció inclosa en el cicle Barcelona Escenari 2016.  \n  \n  \n\n Crònica sobre l’enfrontament entre dues famílies gitanes de Barcelona: “Los Tarantos” i “Los Zorongos”. En una boda\, Rafael el Taranto coneix Juana la Zoronga. Els dos joves\, envoltats per la màgia de la festa\, es juren amor etern amb un pacte de sang. Després d’una nit d’amor descobreixen amb desesperació que pertanyen a dues famílies rival. La mare de Rafael seduïda per l’embruix del ball de Juana\, supera l’odi ancestral\, però el pare de Juan es nega a acceptar l’enllaç.  Direcció: Francesc Rovira Beleta (1963) Guió: Alfredo Mañas sobre l’obra de William Shakespeare Música: Andrés Batista\, Fernando García Morcillo\, Emili Pujol\, Josep Solà Repartiment: Antonio Gades\, Carmen Amaya\, Sara Lezana\, Daniel Martín\, Antonio Prieto\, José Manuel Martín\, Margarita Lozano\, Juan Manuel Soriano Productora: Tercisa / Films Rovira Beleta Durada: 92’  Cicle organitzat per l’Octubre Centre de Cultura Contemporània amb el patrocini de l’Institut de Cultura de Barcelona Direcció del cicle: Antonio Lloréns Entrada lliure
URL:https://octubre.cat/activitat/los-tarantos-de-francesc-rovira-beleta/
LOCATION:Sala d’actes
CATEGORIES:Barcelona Escenari 2016 (cinema)
ATTACH;FMTTYPE=image/jpeg:https://octubre.cat/www/wp-content/uploads/2020/07/activitat2677.jpg
END:VEVENT
END:VCALENDAR