BEGIN:VCALENDAR
VERSION:2.0
PRODID:-//Octubre Centre de Cultura Contemporània - ECPv5.1.6//NONSGML v1.0//EN
CALSCALE:GREGORIAN
METHOD:PUBLISH
X-WR-CALNAME:Octubre Centre de Cultura Contemporània
X-ORIGINAL-URL:https://octubre.cat
X-WR-CALDESC:Events for Octubre Centre de Cultura Contemporània
BEGIN:VTIMEZONE
TZID:Europe/Andorra
BEGIN:DAYLIGHT
TZOFFSETFROM:+0100
TZOFFSETTO:+0200
TZNAME:CEST
DTSTART:20160327T010000
END:DAYLIGHT
BEGIN:STANDARD
TZOFFSETFROM:+0200
TZOFFSETTO:+0100
TZNAME:CET
DTSTART:20161030T010000
END:STANDARD
END:VTIMEZONE
BEGIN:VEVENT
DTSTART;TZID=Europe/Andorra:20160406T190000
DTEND;TZID=Europe/Andorra:20160406T190000
DTSTAMP:20260421T153554
CREATED:20200729T171743Z
LAST-MODIFIED:20200729T185447Z
UID:10605-1459969200-1459969200@octubre.cat
SUMMARY:'Los nombres de Alicia'\, de Pilar Ruiz Gutiérrez
DESCRIPTION:Dimecres 6 d’abril a les 19.00h. Projecció inclosa en el cicle de cinema social. Entrada lliure.  \n  \n  \n\n És estiu i una estudiant estrangera –Mina\, de 22 anys– s’instal·la amb la família Setién en una estada programada per una universitat d’estiu. Mina conviurà amb la família i\, a canvi\, impartirà classes d’idiomes als fills de la família. Però Mina amaga una personalitat torturada\, contradictòria i mentidera: és una nena-dona sense llar que cerca desesperadament formar part d’una família normal i que fuig d’un passat misteriós i dolorós.  Direcció: Pilar Ruiz Gutiérrez (2005) Guió: Pilar Ruiz Gutiérrez\, Jorge Goldenberg\, Gabriel Olivares Música: Federico Jusid Fotografia: Carles Gusi Repartiment: Ana Moreira\, Pep Molina\, Gracia Olayo\, Santiago Ramos\, Héctor Tomás\, Carolina Pettersson\, Pepa López Producció: El Espejo / Relieve 32 / Centre Promotor de la Imatge Durada: 103’  — Entrada lliure Organitzat amb la col·laboració d’El Cine Social Coordinació del cicle: Antonio Lloréns
URL:https://octubre.cat/activitat/los-nombres-de-alicia-de-pilar-ruiz-gutierrez/
LOCATION:Sala d’actes
CATEGORIES:Tercer cicle de cinema social
ATTACH;FMTTYPE=image/jpeg:https://octubre.cat/www/wp-content/uploads/2020/07/activitat2552.jpg
END:VEVENT
END:VCALENDAR