BEGIN:VCALENDAR
VERSION:2.0
PRODID:-//Octubre Centre de Cultura Contemporània - ECPv5.1.6//NONSGML v1.0//EN
CALSCALE:GREGORIAN
METHOD:PUBLISH
X-WR-CALNAME:Octubre Centre de Cultura Contemporània
X-ORIGINAL-URL:https://octubre.cat
X-WR-CALDESC:Events for Octubre Centre de Cultura Contemporània
BEGIN:VTIMEZONE
TZID:Europe/Andorra
BEGIN:DAYLIGHT
TZOFFSETFROM:+0100
TZOFFSETTO:+0200
TZNAME:CEST
DTSTART:20090329T010000
END:DAYLIGHT
BEGIN:STANDARD
TZOFFSETFROM:+0200
TZOFFSETTO:+0100
TZNAME:CET
DTSTART:20091025T010000
END:STANDARD
END:VTIMEZONE
BEGIN:VEVENT
DTSTART;TZID=Europe/Andorra:20090205T200000
DTEND;TZID=Europe/Andorra:20090205T200000
DTSTAMP:20260420T230911
CREATED:20200730T035934Z
LAST-MODIFIED:20200730T035934Z
UID:14068-1233864000-1233864000@octubre.cat
SUMMARY:Los Fabulosos Blueshakers
DESCRIPTION:Dijous 5 de febrer\, a les 20.00h:  Actuació inclosa dins del Cicle de Blues  \n  \n  \n\nEls Fabulosos Blueshakers\, combo de rythm’n’blus amb influències d’altres estils (Chicago\, Texas\, West Coast\, jump) està format per músics veterans de l’escena valenciana: Peter Gun (guitarra i veu)\, Harmónica George (harmònica)\, Paco Rubiales (contrabaix) i Óscar Alcaraz (bateria). Els seus directes posen de manifest un gran dinamisme i versatilitat en estat pur\, amb un coneixement profund i un gran respecte per la música que interpreten. Alguns dels seus components han acompanyat a artistes intarnacionals de la talla de Bob Margonil\, Willie “Big Eyes” Smith\, Hubert Sumlin\, Otis Grand\, Sax Gordon\, Billy Branch\, Paul Orta\, James “Alabama” Campbell i José Luis Pardo & The Mojo Workers. També han actuat com a banda de figures com Angela Brown\, Keith Dunn i Gene Taylior. El seu primer disc\, “You’re Gonna Miss Me When I’m Gone” el va publicar el 2007 pel segell valencià Black Sound Records i actualment estan presentant el segon\, “I’m A Really Good Man” (Black Sounds Records\, 2008).
URL:https://octubre.cat/activitat/los-fabulosos-blueshakers/
LOCATION:No definit
CATEGORIES:Cicle de música pop
ATTACH;FMTTYPE=image/jpeg:https://octubre.cat/www/wp-content/uploads/2020/07/activitat749.jpg
END:VEVENT
END:VCALENDAR