BEGIN:VCALENDAR
VERSION:2.0
PRODID:-//Octubre Centre de Cultura Contemporània - ECPv5.1.6//NONSGML v1.0//EN
CALSCALE:GREGORIAN
METHOD:PUBLISH
X-WR-CALNAME:Octubre Centre de Cultura Contemporània
X-ORIGINAL-URL:https://octubre.cat
X-WR-CALDESC:Events for Octubre Centre de Cultura Contemporània
BEGIN:VTIMEZONE
TZID:Europe/Andorra
BEGIN:DAYLIGHT
TZOFFSETFROM:+0100
TZOFFSETTO:+0200
TZNAME:CEST
DTSTART:20140330T010000
END:DAYLIGHT
BEGIN:STANDARD
TZOFFSETFROM:+0200
TZOFFSETTO:+0100
TZNAME:CET
DTSTART:20141026T010000
END:STANDARD
END:VTIMEZONE
BEGIN:VEVENT
DTSTART;TZID=Europe/Andorra:20140527T000000
DTEND;TZID=Europe/Andorra:20140602T000000
DTSTAMP:20260425T223020
CREATED:20200729T170447Z
LAST-MODIFIED:20200730T041132Z
UID:9775-1401148800-1401667200@octubre.cat
SUMMARY:L'Or dels valencians
DESCRIPTION:Del 27 de maig al 2 de juny. Una exposició pedagògica que pretén donar a conéixer la pèrdua sistemàtica i injusta dels recursos econòmics als que tenim dret els valencians com a ciutadans espanyols. Un espoli que el govern central ens ha “aplicat” durant la democràcia i que els valencians hem de conèixer. Organitzat per l’ACV Tirant lo Blanc amb la col·laboració de l’Octubre CCC  \n  \n  \n\nActe inaugural: dimarts 27 de maig a les 19.30h  L’Or dels valencians és una exposició pedagògica que pretén donar a conéixer la pèrdua sistemàtica i injusta dels recursos econòmics als que tenim dret els valencians com a ciutadans de l’estat espanyol. Un espoli que els diferents governs central s ens han “aplicat” durant la democràcia i que els valencians hem de conèixer.  Les dades s’intenten  exposar des d’un punt de vista neutre que permeta arribar sense prejudicis a la major quantitat de població possible per tal de donar a conèixer una situació perjudicial per als valencians i que pocs coneixen. L’exposició utilitzarà diversos panells amb  molt poc de text i  molta infografia\,  amb comparacions gràfiques que obliguen a reflexionar i traure conclusions davant la contundència de les dades que mostrem. Incidim especialment en un tracte injust que\, en molts casos\, beneficia a territoris més rics que\, no només no són espoliats\, sinó que també reben diners de l’estat incomplint l’equilibri que clarament indica la Constitució.  Per inaugurar l’exposició l’ACV Tirant lo Blanc organitzarà una visita guiada pels promotors de la mateixa i amb l’assistència d’experts en finançament que col·laboraran en ampliar al públic visitant les dades dels diferents  panells. L’acte tindrà lloc el pròxim dimarts 27 de maig a les 19:30 hores.  Organitzat per l’ACV Tirant lo Blanc amb la col·laboració de l’Octubre CCC Exposició produïda per L’Ullal Cultural
URL:https://octubre.cat/activitat/lor-dels-valencians/
LOCATION:Sala d’exposicions
CATEGORIES:Exposicions
ATTACH;FMTTYPE=image/jpeg:https://octubre.cat/www/wp-content/uploads/2020/07/activitat2074.jpg
END:VEVENT
END:VCALENDAR