BEGIN:VCALENDAR
VERSION:2.0
PRODID:-//Octubre Centre de Cultura Contemporània - ECPv5.1.6//NONSGML v1.0//EN
CALSCALE:GREGORIAN
METHOD:PUBLISH
X-WR-CALNAME:Octubre Centre de Cultura Contemporània
X-ORIGINAL-URL:https://octubre.cat
X-WR-CALDESC:Events for Octubre Centre de Cultura Contemporània
BEGIN:VTIMEZONE
TZID:Europe/Andorra
BEGIN:DAYLIGHT
TZOFFSETFROM:+0100
TZOFFSETTO:+0200
TZNAME:CEST
DTSTART:20170326T010000
END:DAYLIGHT
BEGIN:STANDARD
TZOFFSETFROM:+0200
TZOFFSETTO:+0100
TZNAME:CET
DTSTART:20171029T010000
END:STANDARD
END:VTIMEZONE
BEGIN:VEVENT
DTSTART;TZID=Europe/Andorra:20171128T100000
DTEND;TZID=Europe/Andorra:20171128T100000
DTSTAMP:20260422T042340
CREATED:20200729T190211Z
LAST-MODIFIED:20200729T190211Z
UID:13277-1511863200-1511863200@octubre.cat
SUMMARY:Localmed. L’Àmbit Local de l’Euroregió de l’Arc Mediterrani
DESCRIPTION:Dimarts 28 de novembre a les 10.00h. Organitzat per l’Institut Ignasi Villalonga d’Economia i Empresa.  \n  \n  \n\n Programa  10.00h. Presentació a càrrec d’Emili Altur\, vicepresident 3er de la Diputació de València\, diputat de Cooperació Municipal.  10.15h. Ponència “La planificació urbana en la dimensió municipal i comarcal”\, a càrrec de Francesc Fernández\, alcalde de Sagunt i vicepresident de la Federació Valenciana de Municipis i Províncies.  11.00h. Debat dinamitzat centrat en les següents àrees temàtiques: –El finançament i la prestació de serveis –La promoció econòmica –L’organització social –La planificació urbana\, les infraestructures i els equipaments –Territori i coooperació intermunicipal  Organitzat per l’Institut Ignasi Villalonga d’Economia i Empresa (IIEV).
URL:https://octubre.cat/activitat/localmed-lambit-local-de-leuroregio-de-larc-mediterrani/
CATEGORIES:Conferències i congressos
ATTACH;FMTTYPE=image/jpeg:https://octubre.cat/www/wp-content/uploads/2020/07/activitat2917.jpg
END:VEVENT
END:VCALENDAR