BEGIN:VCALENDAR
VERSION:2.0
PRODID:-//Octubre Centre de Cultura Contemporània - ECPv5.1.6//NONSGML v1.0//EN
CALSCALE:GREGORIAN
METHOD:PUBLISH
X-WR-CALNAME:Octubre Centre de Cultura Contemporània
X-ORIGINAL-URL:https://octubre.cat
X-WR-CALDESC:Events for Octubre Centre de Cultura Contemporània
BEGIN:VTIMEZONE
TZID:Europe/Andorra
BEGIN:DAYLIGHT
TZOFFSETFROM:+0100
TZOFFSETTO:+0200
TZNAME:CEST
DTSTART:20160327T010000
END:DAYLIGHT
BEGIN:STANDARD
TZOFFSETFROM:+0200
TZOFFSETTO:+0100
TZNAME:CET
DTSTART:20161030T010000
END:STANDARD
END:VTIMEZONE
BEGIN:VEVENT
DTSTART;TZID=Europe/Andorra:20161028T223000
DTEND;TZID=Europe/Andorra:20161028T223000
DTSTAMP:20260421T104725
CREATED:20200729T172122Z
LAST-MODIFIED:20200729T185627Z
UID:10841-1477693800-1477693800@octubre.cat
SUMMARY:'Llull\, vetllada literària'
DESCRIPTION:Divendres 28 d’octubre a les 22.30h. Amb Miquel Gil\, Kaissa Ould Braham i Jordi Oriol. Activitat inclosa en la celebració del Premis Octubre. Entrada lliure.  \n  \n  \n\n Inspirada en les vetllades literàries de finals del segle XIX\, on autors\, artistes i amants de la literatura es trobaven per compartir el seu gust per l’escriptura en un ambient distès i socialitzador.  En el nostre format\, la literatura es combina amb la música i el comentari\, propiciant que es creï una atmosfera dins la qual és possible apropar-se a l’autor des d’un angle sensorial. La vetllada està conduïda per un actor de prestigi (capaç de donar un nou alè a la paraula escrita i fer brotar la bellesa de la poesia)\, per un músic relacionat amb l’univers de l’autor\, i per un especialista de la seva obra\, que comparteix amb el públic la seva experiència\, en un diàleg de tu a tu. Tot plegat acompanyat per una beguda o element gastronòmic relacionats amb l’autor.  Generant un espai que convida a llegir i descobrir Llull sense por\, com una persona propera tant per la seva dimensió humana com per l’interès que pot tenir avui dia redescobrir-lo i pensar-lo.  Fitxa artística: Direcció: Teresa Vilardell  Selecció de textos i dramatúrgia: Teresa Vilardell i Marc Villanueva Mir  Actor: Jordi Oriol Ponent: Kaissa Ould Braham  Música: Miquel Gil  Fotografies: Elisenda Triadó  Producció executiva: Marta Soro  Col·labora: PEN Català i CulturArts  Una producció de Teatre Akadèmia amb l’Associació Cultural La Trilateral
URL:https://octubre.cat/activitat/llull-vetllada-literaria/
LOCATION:Hall
CATEGORIES:Premis Octubre
ATTACH;FMTTYPE=image/jpeg:https://octubre.cat/www/wp-content/uploads/2020/07/activitat2680.jpg
END:VEVENT
END:VCALENDAR