BEGIN:VCALENDAR
VERSION:2.0
PRODID:-//Octubre Centre de Cultura Contemporània - ECPv5.1.6//NONSGML v1.0//EN
CALSCALE:GREGORIAN
METHOD:PUBLISH
X-WR-CALNAME:Octubre Centre de Cultura Contemporània
X-ORIGINAL-URL:https://octubre.cat
X-WR-CALDESC:Events for Octubre Centre de Cultura Contemporània
BEGIN:VTIMEZONE
TZID:Europe/Andorra
BEGIN:DAYLIGHT
TZOFFSETFROM:+0100
TZOFFSETTO:+0200
TZNAME:CEST
DTSTART:20180325T010000
END:DAYLIGHT
BEGIN:STANDARD
TZOFFSETFROM:+0200
TZOFFSETTO:+0100
TZNAME:CET
DTSTART:20181028T010000
END:STANDARD
END:VTIMEZONE
BEGIN:VEVENT
DTSTART;TZID=Europe/Andorra:20180410T190000
DTEND;TZID=Europe/Andorra:20180410T190000
DTSTAMP:20260421T085604
CREATED:20200729T190346Z
LAST-MODIFIED:20200729T190346Z
UID:13377-1523386800-1523386800@octubre.cat
SUMMARY:Lluita ciutadana contra l'estafa Castor
DESCRIPTION:Dimarts 10 d’abril a les 19.00h\, amb Alfons Pérez\, de l’Observatori del Deute en la Globalització. Organitzat per Ecologistes en Acció.  \n  \n  \n\n Quant\, com i per què pagarem.  Amb Alfons Pérez\, de l’Observatori del Deute en la Globalització.  Organitzat per Ecologistes en Acció.
URL:https://octubre.cat/activitat/lluita-ciutadana-contra-lestafa-castor/
LOCATION:No definit
CATEGORIES:Conferències i congressos
ATTACH;FMTTYPE=image/jpeg:https://octubre.cat/www/wp-content/uploads/2020/07/activitat3019.jpg
END:VEVENT
END:VCALENDAR