BEGIN:VCALENDAR
VERSION:2.0
PRODID:-//Octubre Centre de Cultura Contemporània - ECPv5.1.6//NONSGML v1.0//EN
CALSCALE:GREGORIAN
METHOD:PUBLISH
X-WR-CALNAME:Octubre Centre de Cultura Contemporània
X-ORIGINAL-URL:https://octubre.cat
X-WR-CALDESC:Events for Octubre Centre de Cultura Contemporània
BEGIN:VTIMEZONE
TZID:Europe/Andorra
BEGIN:DAYLIGHT
TZOFFSETFROM:+0100
TZOFFSETTO:+0200
TZNAME:CEST
DTSTART:20190331T010000
END:DAYLIGHT
BEGIN:STANDARD
TZOFFSETFROM:+0200
TZOFFSETTO:+0100
TZNAME:CET
DTSTART:20191027T010000
END:STANDARD
END:VTIMEZONE
BEGIN:VEVENT
DTSTART;TZID=Europe/Andorra:20191030T211500
DTEND;TZID=Europe/Andorra:20191030T211500
DTSTAMP:20260421T151846
CREATED:20200729T173534Z
LAST-MODIFIED:20200729T191238Z
UID:11535-1572470100-1572470100@octubre.cat
SUMMARY:Lliurament dels Premis de la 7ena Plaça del Llibre
DESCRIPTION:Dimecres 30 d’octubre a les 21.15h. Lliurament dels guardons i posterior sopar literari.	 \n  \n  \n\n 	 La Plaça del Llibre és un espai d’encontre dels llibres en valencià\, on tots estem convidats: autors\, editors\, llibreters i sobretot els lectors.  Del 30 d’octubre al 3 de novembre de 2019 omplirem de lletres la Plaça de l’Ajuntament amb la 7a edició de la Plaça del Llibre de València.  Reconèixer i premiar l’estima per la nostra cultura és sens dubte una de les consignes de la Plaça del Llibre. Amb aquest motiu\, el proper dimecres 30 d’octubre a les 21:15 a l’Octubre CCC celebrarem el lliurament dels Premis Plaça del Llibre de València 2019. Uns guardons amb els quals es reconeix la trajectòria literària d’un autor o autora en la nostra llengua; la tasca de difusió de la cultura valenciana\, i el reconeixement a la millor trajectòria editorial atorgant:  Premi Trajectòria literària a Jaume Pérez Montaner Premi Trajectòria editorial a Rosa Serrano Llàcer  Premi Difusió a la Societat Coral El Micalet  Seguirem la vetllada amb un sopar literari. Inscriu-te en aquest formulari abans del 28 d’octubre.  — La Plaça del Llibre és un projecte coordinat per la Fundació pel Llibre i la Lectura (FULL) i organitzat amb la col·laboració de l’Associació d’Editors del País Valencià\, el Gremi de Llibrers de València\, el Gremi de llibreters independents de les Comarques d’Alacant\, el Gremi de Llibreters de Castelló i Comarques\, l’Associació d’Escriptors en Llengua Catalana i Acció Cultural del País Valencià.
URL:https://octubre.cat/activitat/lliurament-dels-premis-de-la-7ena-placa-del-llibre/
LOCATION:Cafeteria
CATEGORIES:Literatura
ATTACH;FMTTYPE=image/jpeg:https://octubre.cat/www/wp-content/uploads/2020/07/activitat3355.jpg
END:VEVENT
END:VCALENDAR