BEGIN:VCALENDAR
VERSION:2.0
PRODID:-//Octubre Centre de Cultura Contemporània - ECPv5.1.6//NONSGML v1.0//EN
CALSCALE:GREGORIAN
METHOD:PUBLISH
X-WR-CALNAME:Octubre Centre de Cultura Contemporània
X-ORIGINAL-URL:https://octubre.cat
X-WR-CALDESC:Events for Octubre Centre de Cultura Contemporània
BEGIN:VTIMEZONE
TZID:Europe/Andorra
BEGIN:DAYLIGHT
TZOFFSETFROM:+0100
TZOFFSETTO:+0200
TZNAME:CEST
DTSTART:20190331T010000
END:DAYLIGHT
BEGIN:STANDARD
TZOFFSETFROM:+0200
TZOFFSETTO:+0100
TZNAME:CET
DTSTART:20191027T010000
END:STANDARD
END:VTIMEZONE
BEGIN:VEVENT
DTSTART;TZID=Europe/Andorra:20190313T200000
DTEND;TZID=Europe/Andorra:20190313T200000
DTSTAMP:20260422T002004
CREATED:20200729T173324Z
LAST-MODIFIED:20200729T191103Z
UID:11391-1552507200-1552507200@octubre.cat
SUMMARY:Lliurament de la Lletra Lila a Pepa Guardiola
DESCRIPTION:Dimecres 13 de març a les 20.00h\, seguit d’un sopar literari. Organitzat per l’Associació d’Escriptors en Llengua Catalana.	 \n  \n  \n\n 	 Celebrem el 8 de març  Presenta l’acte Maria Carme Arnau i Orts Glossa a càrrec de Carme Miquel i Dolors Padrós Actuació de Carraixet  Pepa Guardiola (Xàbia\, 1953) és mestra de Primària i escriptora. La major part de la seua obra literària està dedicada a infants i joves. És autora de més d’una trentena d’obres i ha sigut guardonada amb diversos premis\, entre els quals\, el Premi Carmesina\, el Mediterrani de Literatura Juvenil o el Samaruc\, a més del Premi Enric Valor de Novel·la. Pepa Guardiola ha pres també part activa en el moviment feminista i contra la violència de gènere i participa assíduament en La Xarxa de Dones de la Marina Alta.  Després sopar literari (reserva per al sopar\, 18 euros\, abans del 10 de març\, a través del correu aelc@escriptors.cat)  — Organitza: Associació d’Escriptors en Llengua Catalana (AELC). Patrocina: Institució de les Lletres Catalanes Col·laboren: Acció Cultural del País Valencià i Llibreria Fan Set
URL:https://octubre.cat/activitat/lliurament-de-la-lletra-lila-a-pepa-guardiola/
CATEGORIES:Literatura
ATTACH;FMTTYPE=image/jpeg:https://octubre.cat/www/wp-content/uploads/2020/07/activitat3236.jpg
END:VEVENT
END:VCALENDAR