BEGIN:VCALENDAR
VERSION:2.0
PRODID:-//Octubre Centre de Cultura Contemporània - ECPv5.1.6//NONSGML v1.0//EN
CALSCALE:GREGORIAN
METHOD:PUBLISH
X-WR-CALNAME:Octubre Centre de Cultura Contemporània
X-ORIGINAL-URL:https://octubre.cat
X-WR-CALDESC:Events for Octubre Centre de Cultura Contemporània
BEGIN:VTIMEZONE
TZID:Europe/Andorra
BEGIN:DAYLIGHT
TZOFFSETFROM:+0100
TZOFFSETTO:+0200
TZNAME:CEST
DTSTART:20180325T010000
END:DAYLIGHT
BEGIN:STANDARD
TZOFFSETFROM:+0200
TZOFFSETTO:+0100
TZNAME:CET
DTSTART:20181028T010000
END:STANDARD
END:VTIMEZONE
BEGIN:VEVENT
DTSTART;TZID=Europe/Andorra:20180314T200000
DTEND;TZID=Europe/Andorra:20180314T200000
DTSTAMP:20260421T232442
CREATED:20200729T190326Z
LAST-MODIFIED:20200729T190326Z
UID:13356-1521057600-1521057600@octubre.cat
SUMMARY:Lliurament de la Lletra Lila a Mercé Viana
DESCRIPTION:Dimecres 14 de març a les 20.00h. Lliurament del premi i posteriorment sopar literari. Organitzat per l’Associació d’Escriptors en Llengua Catalana amb la col·laboració d’ACPV.  \n  \n  \n\n Celebrem el 8 de març  Presenta l’acte Pura Peris. Glossa a càrrec de Verònica Cantó. Actuació de Montse Castellà.  Després sopar literari (reserva per al sopar\, 18 euros\, abans del 9 de març\, a través del correu aelc@escriptors.cat)  Mercé Viana (Alfafar\, l’Horta\, 1946) és pedagoga i escriptora. Mestra i llicenciada en Filosofia i Ciències de l’educació\, especialitzada en didàctica de la llengua\, ha treballat en les diverses etapes educatives\, des de la infantil fins a la universitària. Seguidora de Freinet\, s’integra en els moviments de renovació pedagògica i exerceix de formadora del professorat a més de dirigir la revista Espais Didàctics. Té publicades un gran nombre d’obres didàctiques entre llibres de text i quaderns de lectura comprensiva. Amb la voluntat d’incidir en l’aprenentatge dels més joves\, és\, a més\, una escriptora prolífica de narrativa infantil i juvenil.  Organitza: Associació d’Escriptors en Llengua Catalana (AELC). Patrocinen: Institució de les Lletres Catalanes i CEDRO. Col·laboren: Acció Cultural del País Valencià i Llibreria Fan Set.
URL:https://octubre.cat/activitat/lliurament-de-la-lletra-lila-a-merce-viana/
LOCATION:Hall
CATEGORIES:Literatura
ATTACH;FMTTYPE=image/jpeg:https://octubre.cat/www/wp-content/uploads/2020/07/activitat2995.jpg
END:VEVENT
END:VCALENDAR