BEGIN:VCALENDAR
VERSION:2.0
PRODID:-//Octubre Centre de Cultura Contemporània - ECPv5.1.6//NONSGML v1.0//EN
CALSCALE:GREGORIAN
METHOD:PUBLISH
X-WR-CALNAME:Octubre Centre de Cultura Contemporània
X-ORIGINAL-URL:https://octubre.cat
X-WR-CALDESC:Events for Octubre Centre de Cultura Contemporània
BEGIN:VTIMEZONE
TZID:Europe/Andorra
BEGIN:DAYLIGHT
TZOFFSETFROM:+0100
TZOFFSETTO:+0200
TZNAME:CEST
DTSTART:20170326T010000
END:DAYLIGHT
BEGIN:STANDARD
TZOFFSETFROM:+0200
TZOFFSETTO:+0100
TZNAME:CET
DTSTART:20171029T010000
END:STANDARD
END:VTIMEZONE
BEGIN:VEVENT
DTSTART;TZID=Europe/Andorra:20170310T203000
DTEND;TZID=Europe/Andorra:20170310T203000
DTSTAMP:20260420T202217
CREATED:20200729T172457Z
LAST-MODIFIED:20200729T185800Z
UID:11071-1489177800-1489177800@octubre.cat
SUMMARY:Lliurament de la Lletra Lila a Isabel Robles
DESCRIPTION:Divendres 10 de març a les 20.30h. Amb motiu del 8 de març\, Dia Internacional de les Dones\, l’Associació d’Escriptors en Llengua Catalana entregarà la seva Lletra Lila a Isabel Robles. L’acte inclou també un sopar.  \n  \n  \n\n Amb motiu del 8 de març\, Dia Internacional de les Dones\, l’Associació d’Escriptors en Llengua Catalana entregarà la seva Lletra Lila a Isabel Robles.  La Lletra Lila és un reconeixement a la trajectòria cívica i literària que atorga la Junta territorial de l’AELC al País Valencià.  L’acte tindrà lloc el divendres 10 de març\, a les 20:30h a l’Octubre Centre de Cultura Contemporània de València. Serà presentat per Maria Saiz\, una de les fundadores del col·lectiu  Gargots. La poeta i traductora eivissenca Nora Albert farà una glossa sobre Isabel Robles\, i la cantautora d’Oliva Clara Andrés oferirà un recital pensat especialment per a l’ocasió.  L’acte finalitzarà amb un sopar literari\, pel qual cal reservar abans del 8 de març (15€ per persona) a aelc@escriptors.cat  —  Isabel Robles és professora\, poeta\, traductora i crítica literària. Ha publicat els reculls de poesia L’Espiral (1994)\, Llibre dels adéus (2009) i Les sabates i altres poemes (2014) i ha traduït de l’anglès a poetes com Myrna Lamb\, Anne Sexton o e. e. Cummings. Ha estudiat\, des d’una perspectiva de gènere\, l’obra d’autores com Kate Chopin\, Carme Riera\, Montserrat Roig\, Isabel-Clara Simó o Virginia Woof. Paral·lelament Isabel Robles ha mantingut una important activitat com a crítica i divulgadora de l’obra d’escriptores valencianes actuals\, a través d’articles a la premsa i en revistes culturals i literàries com ara Levante-emv o L’Aiguadolç\, i de la participació en incomptables recitals\, col·loquis i actes literaris.  Isabel Robles serà la segona escriptora distingida amb la Lletra Lila. L’any passat\, el primer en què es va lliurar\, el reconeixement va ser per a la poeta i traductora Encarna Sant-Celoni.  — Organitzat per AELC amb la col·laboració de la Institució de les Lletres Catalanes\, la llibreria Fan Set i Acció Cultural del País Valencià.
URL:https://octubre.cat/activitat/lliurament-de-la-lletra-lila-a-isabel-robles/
LOCATION:Hall
CATEGORIES:Literatura
ATTACH;FMTTYPE=image/jpeg:https://octubre.cat/www/wp-content/uploads/2020/07/activitat2795.jpg
END:VEVENT
END:VCALENDAR