BEGIN:VCALENDAR
VERSION:2.0
PRODID:-//Octubre Centre de Cultura Contemporània - ECPv5.1.6//NONSGML v1.0//EN
CALSCALE:GREGORIAN
METHOD:PUBLISH
X-WR-CALNAME:Octubre Centre de Cultura Contemporània
X-ORIGINAL-URL:https://octubre.cat
X-WR-CALDESC:Events for Octubre Centre de Cultura Contemporània
BEGIN:VTIMEZONE
TZID:Europe/Andorra
BEGIN:DAYLIGHT
TZOFFSETFROM:+0100
TZOFFSETTO:+0200
TZNAME:CEST
DTSTART:20160327T010000
END:DAYLIGHT
BEGIN:STANDARD
TZOFFSETFROM:+0200
TZOFFSETTO:+0100
TZNAME:CET
DTSTART:20161030T010000
END:STANDARD
END:VTIMEZONE
BEGIN:VEVENT
DTSTART;TZID=Europe/Andorra:20160303T200000
DTEND;TZID=Europe/Andorra:20160303T200000
DTSTAMP:20260421T151951
CREATED:20200729T171654Z
LAST-MODIFIED:20200729T185427Z
UID:10555-1457035200-1457035200@octubre.cat
SUMMARY:Lliurament de la 'lletra lila' a Encarna Sant-Celoni
DESCRIPTION:Dijous 3 de març a les 20.00h. Celebració del 8 de Març i lliurament de la lletra lila a l’escriptora. Posteriorment\, sopar literari (cal reservar).  \n  \n  \n\n Celebració del 8 de març\, Dia Internacional de les Dones\, amb el lliurament de la lletra lila a Encarna Sant-Celoni.  Amb un parlament de Bel Olid\, un vídeo de reconeixement a Encarna Sant-Celoni\, i la lectura de poemes a càrrec d‘Isabel Robles i Maria Fullana. També hi haurà l’actuació de Sèrman Mànser (amb versos d’Encarna Sant-Celoni).  A continuació\, sopar literari (15€). Cal reservar abans del 29 de febrer contactant amb l’AELC (aelc@escriptors.cat/93 301 78 28).  Organitzat per l’Associació d’Escriptors en Llengua Catalana (AELC) amb el patrocini de CEDRO i de la Institució de les Lletres Catalanes i la col·laboració de la Universitat d’Alacant i Acció Cultural del País Valencià.
URL:https://octubre.cat/activitat/lliurament-de-la-lletra-lila-a-encarna-sant-celoni/
LOCATION:Hall
CATEGORIES:Literatura
ATTACH;FMTTYPE=image/jpeg:https://octubre.cat/www/wp-content/uploads/2020/07/activitat2526.jpg
END:VEVENT
END:VCALENDAR