BEGIN:VCALENDAR
VERSION:2.0
PRODID:-//Octubre Centre de Cultura Contemporània - ECPv5.1.6//NONSGML v1.0//EN
CALSCALE:GREGORIAN
METHOD:PUBLISH
X-WR-CALNAME:Octubre Centre de Cultura Contemporània
X-ORIGINAL-URL:https://octubre.cat
X-WR-CALDESC:Events for Octubre Centre de Cultura Contemporània
BEGIN:VTIMEZONE
TZID:Europe/Andorra
BEGIN:DAYLIGHT
TZOFFSETFROM:+0100
TZOFFSETTO:+0200
TZNAME:CEST
DTSTART:20260329T010000
END:DAYLIGHT
BEGIN:STANDARD
TZOFFSETFROM:+0200
TZOFFSETTO:+0100
TZNAME:CET
DTSTART:20261025T010000
END:STANDARD
END:VTIMEZONE
BEGIN:VEVENT
DTSTART;TZID=Europe/Andorra:20260415T190000
DTEND;TZID=Europe/Andorra:20260415T190000
DTSTAMP:20260420T090558
CREATED:20260305T111134Z
LAST-MODIFIED:20260305T111134Z
UID:25094-1776279600-1776279600@octubre.cat
SUMMARY:Lliurament de la Lletra Lila 2026 a Carme Manuel
DESCRIPTION:Homenatge a Carme Manuel amb glosa de Josep Vicent Garcia i actuació musical d’Eva Gómez. \nCarme Manuel (València\, 1960) és catedràtica d’anglès a la Universitat de València\, on imparteix literatura nord-americana des de 1992. Especialista en estudis afroamericans i de gènere\, ha investigat sobretot l’escriptura de dones afroamericanes dels segles XIX i XX. Ha editat i traduït obres fonamentals de la narrativa afroamericana i ha publicat nombrosos estudis sobre literatura nord-americana. \n—\nOrganitzat per l’Associació d’Escriptors en Llengua Catalana (AELC) amb la col·laboració de l’Octubre CCC
URL:https://octubre.cat/activitat/lliurament-de-la-lletra-lila-2026-a-carme-manuel/
LOCATION:Hall
CATEGORIES:Literatura
ATTACH;FMTTYPE=image/jpeg:https://octubre.cat/www/wp-content/uploads/2026/03/Carme_Manuel_Cuenca_01.jpg
END:VEVENT
END:VCALENDAR