BEGIN:VCALENDAR
VERSION:2.0
PRODID:-//Octubre Centre de Cultura Contemporània - ECPv5.1.6//NONSGML v1.0//EN
CALSCALE:GREGORIAN
METHOD:PUBLISH
X-WR-CALNAME:Octubre Centre de Cultura Contemporània
X-ORIGINAL-URL:https://octubre.cat
X-WR-CALDESC:Events for Octubre Centre de Cultura Contemporània
BEGIN:VTIMEZONE
TZID:Europe/Andorra
BEGIN:DAYLIGHT
TZOFFSETFROM:+0100
TZOFFSETTO:+0200
TZNAME:CEST
DTSTART:20230326T010000
END:DAYLIGHT
BEGIN:STANDARD
TZOFFSETFROM:+0200
TZOFFSETTO:+0100
TZNAME:CET
DTSTART:20231029T010000
END:STANDARD
END:VTIMEZONE
BEGIN:VEVENT
DTSTART;TZID=Europe/Andorra:20230329T190000
DTEND;TZID=Europe/Andorra:20230329T190000
DTSTAMP:20260420T120947
CREATED:20230227T163709Z
LAST-MODIFIED:20250710T083615Z
UID:19596-1680116400-1680116400@octubre.cat
SUMMARY:Lliurament de la Lletra Lila 2023 a Gràcia Jiménez
DESCRIPTION:Amb glosa de Tudi Torró i actuació musical d’Anna Rosselló. \nEs tracta d’un reconeixement a la trajectòria cívica i literària que atorga la Junta territorial de l’AELC al País Valencià. Enguany el rep Gràcia Jiménez (Astúries\, 1957). Ha estat professora i escriptora. Va arribar al País Valencià amb quatre anys i ha viscut a Alacant\, Elx i Sant Vicent del Raspeig. És llicenciada en Història Contemporània per la Universitat de València. Ha impartit docència a primària\, secundària\, batxillerat i a la Universitat. També ha estat professora d’adults. En el camp de la literatura he publicat narrativa i poesia. \n  \n \n—\nActe organitzat per l’Associació d’Escriptors en Llengua Catalana (AELC) amb la col·laboració de l’Octubre CCC
URL:https://octubre.cat/activitat/lliurament-de-la-lletra-lila-2023-a-gracia-jimenez/
LOCATION:Hall
CATEGORIES:Literatura
ATTACH;FMTTYPE=image/jpeg:https://octubre.cat/www/wp-content/uploads/2023/02/gracia-jimenez-tirado-scaled.jpg
END:VEVENT
END:VCALENDAR