BEGIN:VCALENDAR
VERSION:2.0
PRODID:-//Octubre Centre de Cultura Contemporània - ECPv5.1.6//NONSGML v1.0//EN
CALSCALE:GREGORIAN
METHOD:PUBLISH
X-WR-CALNAME:Octubre Centre de Cultura Contemporània
X-ORIGINAL-URL:https://octubre.cat
X-WR-CALDESC:Events for Octubre Centre de Cultura Contemporània
BEGIN:VTIMEZONE
TZID:Europe/Andorra
BEGIN:DAYLIGHT
TZOFFSETFROM:+0100
TZOFFSETTO:+0200
TZNAME:CEST
DTSTART:20130331T010000
END:DAYLIGHT
BEGIN:STANDARD
TZOFFSETFROM:+0200
TZOFFSETTO:+0100
TZNAME:CET
DTSTART:20131027T010000
END:STANDARD
END:VTIMEZONE
BEGIN:VEVENT
DTSTART;TZID=Europe/Andorra:20130627T193000
DTEND;TZID=Europe/Andorra:20130627T193000
DTSTAMP:20260424T014111
CREATED:20200729T170106Z
LAST-MODIFIED:20200729T184140Z
UID:9563-1372361400-1372361400@octubre.cat
SUMMARY:Lliris Picó i Jordi Sebastià
DESCRIPTION:Dijous 27 de juny a les 19.30h: Lliris Picó i Jordi Sebastià  \n  \n  \n\n Lliris Picó i Carbonell (Ibi\, l’Alcoià\, 1972)\, és llicenciada en Filologia Catalana. Treballa a la Delegació d’Alacant de l’Institut d’Estudis Catalans. Ha publicat diversos estudis i articles sobre l’obra poètica de Gaspar Jaén en revistes com Caràcters i L’Aiguadolç. És autora de les novel·les Helena: un record sempre és mentida (Columna\, 2002)\, Les ales de la memòria (Marfil\, 2003)\, L’olor dels crisantems (Tres i Quatre\, 2005) i Claus de serp (Marfil\, 2007). Les seues obres han rebut diversos guardons entre els quals destaquen el XXI Premi 25 d’abril Vila Benissa (2001) i el Premi de Narrativa Antoni Bru Ciutat d’Elx (2004).  Jordi Sebastià i Talavera (Burjassot\, l’Horta Nord\, 1966) és escriptor\, periodista i professor universitari. Des de 2011 és alcalde de Burjassot pel BLOC-Coalició Compromís. Llicenciat en Filologia\, des del 2004 és professor de periodisme a la Universitat de València. Ha escrit diversos llibres de temàtica diversa i ha col·laborat en la revista El Temps. Actualment treballa com a periodista free-lance i escriptor. Entre els premis guanyats destaca el Premi de periodisme d’investigació Ramon Barnils\, guanyat en 2002\, per l’obra “El president\, les falleres\, l’horta i la carretera”. Així mateix\, l’any 2008 va guanyar el premi de narrativa breu Josep Pasqual Tirado\, lliurat per la Diputació de Castelló\, amb l’obra Atzucacs  Activitat organitzada en col·laboració amb l’Associació d’Escriptors en Llengua Catalana (AELC)
URL:https://octubre.cat/activitat/lliris-pico-i-jordi-sebastia/
LOCATION:Terrat
CATEGORIES:Escriptors al terrat
ATTACH;FMTTYPE=image/jpeg:https://octubre.cat/www/wp-content/uploads/2020/07/activitat1819.jpg
END:VEVENT
END:VCALENDAR