BEGIN:VCALENDAR
VERSION:2.0
PRODID:-//Octubre Centre de Cultura Contemporània - ECPv5.1.6//NONSGML v1.0//EN
CALSCALE:GREGORIAN
METHOD:PUBLISH
X-WR-CALNAME:Octubre Centre de Cultura Contemporània
X-ORIGINAL-URL:https://octubre.cat
X-WR-CALDESC:Events for Octubre Centre de Cultura Contemporània
BEGIN:VTIMEZONE
TZID:Europe/Andorra
BEGIN:DAYLIGHT
TZOFFSETFROM:+0100
TZOFFSETTO:+0200
TZNAME:CEST
DTSTART:20220327T010000
END:DAYLIGHT
BEGIN:STANDARD
TZOFFSETFROM:+0200
TZOFFSETTO:+0100
TZNAME:CET
DTSTART:20221030T010000
END:STANDARD
END:VTIMEZONE
BEGIN:VEVENT
DTSTART;TZID=Europe/Andorra:20221011T190000
DTEND;TZID=Europe/Andorra:20221011T190000
DTSTAMP:20260420T165821
CREATED:20221004T151212Z
LAST-MODIFIED:20250630T075659Z
UID:18807-1665514800-1665514800@octubre.cat
SUMMARY:Lletres Compartides: Anna Manso
DESCRIPTION:Espai de reunió i debat amb els autors convidats acompanyats per Antoni Gómez. \nAnna Manso (Barcelona 1969) és guionista i escriptora de literatura infantil i juvenil. Té publicats més de 40 títols i ha estat traduïda al castellà\, coreà\, polonès\, anglès i portuguès. Entre altres guardons és Premi de la Crítica dels Escriptors Valencians 2022. \n  \n \n—\nOrganitzat per l’Acadèmia Valenciana de la Llengua (AVL) i l’Associació d’Escriptors en Llengua Catalana (AELC).\nLletres Compartides és un programa promogut per la Institució de les Lletres Catalanes\, l’Acadèmia Valenciana de la Llengua\, el Consell Insular de Menorca i la Fundació Mallorca Literària.\nAmb la col·laboració de l’Octubre CCC
URL:https://octubre.cat/activitat/lletres-compartides-anna-manso/
LOCATION:Àtic
CATEGORIES:Literatura,Lletres Compartides
ATTACH;FMTTYPE=image/jpeg:https://octubre.cat/www/wp-content/uploads/2022/10/ANNA_MANSO_ESCRIPTORI.jpg
END:VEVENT
END:VCALENDAR