BEGIN:VCALENDAR
VERSION:2.0
PRODID:-//Octubre Centre de Cultura Contemporània - ECPv5.1.6//NONSGML v1.0//EN
CALSCALE:GREGORIAN
METHOD:PUBLISH
X-WR-CALNAME:Octubre Centre de Cultura Contemporània
X-ORIGINAL-URL:https://octubre.cat
X-WR-CALDESC:Events for Octubre Centre de Cultura Contemporània
BEGIN:VTIMEZONE
TZID:Europe/Andorra
BEGIN:DAYLIGHT
TZOFFSETFROM:+0100
TZOFFSETTO:+0200
TZNAME:CEST
DTSTART:20250330T010000
END:DAYLIGHT
BEGIN:STANDARD
TZOFFSETFROM:+0200
TZOFFSETTO:+0100
TZNAME:CET
DTSTART:20251026T010000
END:STANDARD
END:VTIMEZONE
BEGIN:VEVENT
DTSTART;TZID=Europe/Andorra:20250513T190000
DTEND;TZID=Europe/Andorra:20250513T190000
DTSTAMP:20260420T132852
CREATED:20240924T145954Z
LAST-MODIFIED:20250427T101901Z
UID:21719-1747162800-1747162800@octubre.cat
SUMMARY:Lletres al terrat: perspectives de la literatura infantil i juvenil
DESCRIPTION:Amb Lourdes Boïgues i Carles Cano. Modera Vicent Sanhermelando. \n—\nOrganitzat per l’Associació d’Escriptors en Llengua Catalana (AELC) amb la col·laboració de l’Octubre CCC
URL:https://octubre.cat/activitat/lletres-al-terrat-perspectives-de-la-literatura-infantil-i-juvenil/
LOCATION:Terrat
CATEGORIES:Lletres al terrat
ATTACH;FMTTYPE=image/jpeg:https://octubre.cat/www/wp-content/uploads/2022/12/terrat-octubre.jpg
END:VEVENT
END:VCALENDAR