BEGIN:VCALENDAR
VERSION:2.0
PRODID:-//Octubre Centre de Cultura Contemporània - ECPv5.1.6//NONSGML v1.0//EN
CALSCALE:GREGORIAN
METHOD:PUBLISH
X-WR-CALNAME:Octubre Centre de Cultura Contemporània
X-ORIGINAL-URL:https://octubre.cat
X-WR-CALDESC:Events for Octubre Centre de Cultura Contemporània
BEGIN:VTIMEZONE
TZID:Europe/Andorra
BEGIN:DAYLIGHT
TZOFFSETFROM:+0100
TZOFFSETTO:+0200
TZNAME:CEST
DTSTART:20240331T010000
END:DAYLIGHT
BEGIN:STANDARD
TZOFFSETFROM:+0200
TZOFFSETTO:+0100
TZNAME:CET
DTSTART:20241027T010000
END:STANDARD
END:VTIMEZONE
BEGIN:VEVENT
DTSTART;TZID=Europe/Andorra:20240409T183000
DTEND;TZID=Europe/Andorra:20240409T183000
DTSTAMP:20260420T143318
CREATED:20240312T102919Z
LAST-MODIFIED:20250713T075509Z
UID:21063-1712687400-1712687400@octubre.cat
SUMMARY:Lletres al terrat: Homenatge a Nora Albert
DESCRIPTION:Amb els escriptors Isabel Robles i Víctor Benavides. \nHelena Alvarado i Esteve (Barcelona\, 1948 – Sant Antoni de Portmany\, 2023)\, coneguda també pel pseudònim de Nora Albert\, va ser poeta\, assagista i traductora. Va ser sòcia d’honor de l’AELC i vocal per les Illes entre el 2011 i el 2020. \n  \n \n—\nCicle organitzat per l’Associació d’Escriptors en Llengua Catalana (AELC) amb la col·laboració de l’Octubre CCC.
URL:https://octubre.cat/activitat/lletres-al-terrat-homenatge-a-nora-albert/
LOCATION:Terrat
CATEGORIES:Lletres al terrat
ATTACH;FMTTYPE=image/jpeg:https://octubre.cat/www/wp-content/uploads/2022/12/terrat-octubre.jpg
END:VEVENT
END:VCALENDAR