BEGIN:VCALENDAR
VERSION:2.0
PRODID:-//Octubre Centre de Cultura Contemporània - ECPv5.1.6//NONSGML v1.0//EN
CALSCALE:GREGORIAN
METHOD:PUBLISH
X-WR-CALNAME:Octubre Centre de Cultura Contemporània
X-ORIGINAL-URL:https://octubre.cat
X-WR-CALDESC:Events for Octubre Centre de Cultura Contemporània
BEGIN:VTIMEZONE
TZID:Europe/Andorra
BEGIN:DAYLIGHT
TZOFFSETFROM:+0100
TZOFFSETTO:+0200
TZNAME:CEST
DTSTART:20240331T010000
END:DAYLIGHT
BEGIN:STANDARD
TZOFFSETFROM:+0200
TZOFFSETTO:+0100
TZNAME:CET
DTSTART:20241027T010000
END:STANDARD
END:VTIMEZONE
BEGIN:VEVENT
DTSTART;TZID=Europe/Andorra:20240514T183000
DTEND;TZID=Europe/Andorra:20240514T183000
DTSTAMP:20260421T121732
CREATED:20240312T103236Z
LAST-MODIFIED:20250713T075550Z
UID:21067-1715711400-1715711400@octubre.cat
SUMMARY:Lletres al terrat: El perquè de la crítica literària
DESCRIPTION:Amb Manel Rodríguez-Castelló\, escriptor\, i Mireia Sopena\, vocal de l’AELC i coordinadora de la secció de crítica i assaig. \nConversa dedicada a la necessitat\, les funcions i la situació de la crítica. \n—\nCicle organitzat per l’Associació d’Escriptors en Llengua Catalana (AELC) amb la col·laboració de l’Octubre CCC.
URL:https://octubre.cat/activitat/lletres-al-terrat-el-perque-de-la-critica-literaria/
LOCATION:Terrat
CATEGORIES:Lletres al terrat
ATTACH;FMTTYPE=image/jpeg:https://octubre.cat/www/wp-content/uploads/2022/12/terrat-octubre.jpg
END:VEVENT
END:VCALENDAR