BEGIN:VCALENDAR
VERSION:2.0
PRODID:-//Octubre Centre de Cultura Contemporània - ECPv5.1.6//NONSGML v1.0//EN
CALSCALE:GREGORIAN
METHOD:PUBLISH
X-WR-CALNAME:Octubre Centre de Cultura Contemporània
X-ORIGINAL-URL:https://octubre.cat
X-WR-CALDESC:Events for Octubre Centre de Cultura Contemporània
BEGIN:VTIMEZONE
TZID:Europe/Andorra
BEGIN:DAYLIGHT
TZOFFSETFROM:+0100
TZOFFSETTO:+0200
TZNAME:CEST
DTSTART:20110327T010000
END:DAYLIGHT
BEGIN:STANDARD
TZOFFSETFROM:+0200
TZOFFSETTO:+0100
TZNAME:CET
DTSTART:20111030T010000
END:STANDARD
END:VTIMEZONE
BEGIN:VEVENT
DTSTART;TZID=Europe/Andorra:20110913T000000
DTEND;TZID=Europe/Andorra:20110925T000000
DTSTAMP:20260424T083135
CREATED:20200729T165612Z
LAST-MODIFIED:20200830T094939Z
UID:9276-1315872000-1316908800@octubre.cat
SUMMARY:Llavoretes4
DESCRIPTION:El desenvolupament previst per aquesta propera edició de Llavoretes4 gira en torn de l’ideari de “col·lectiva(t)”. Es llança una reflexió conjunta i plural cap a les diverses disciplines creatives al voltant de la construcció del col·lectiu\, però des d’una dimensió humana i propera i la seua relació amb els objectes que ens envolten i l’entorn que habitem\, una mirada centrada més en l’univers de micro-històries que sorgeixen d’aquesta relació\, que constitueixen l’ànima plural col·lectiva. \nCom en les edicions anteriors\, Llavoretes4 contindrà:\n—art-act: de l’art al disseny\, exposició a l’Octubre CCC (del 13 al 25 de setembre)\n—l’embolic design: del disseny a l’art. Intervencions a diversos llocs de la ciutat\n—genoma: nous gens de moda: Divendres 23 de setembre a les 19.00h: desfilada de moda Genoma: Workshop Denim Dealer (alumnes de l’Escola Superior d’Art i Disseny d’Oriola) + Pablo Ruíz\n—move on: escenes en movient i acció a l’Octubre CCC \nCoordinadors generals de Llavoretes4: Antonio Moreno i Juana Morales.\nComissària Artística (curadora) de la zona “Art-Act”: Gabriela Camejo León.\nResponsable (Cool Hunter) de la zona “Genoma”: Alicia Bonillo.\nResponsables de les Jornades Social Media: Juana Morales (direcció)\, Clara Ávila\, José Miguel Ruíz i Clara Montesinos (coordinadors).\nL’embolic artistes: Clara Ros\, Sheila Cabeza de Vaca\, Jorge García\, Paloma Carreño\, Ilustrada Hermandad de Diseñadores i María Garrido.\nPer a més informació\, escriu a: llavoretes.vlc@gmail.com
URL:https://octubre.cat/activitat/llavoretes4/
LOCATION:Sala d’exposicions
CATEGORIES:Conferències i congressos,Exposicions
ATTACH;FMTTYPE=image/jpeg:https://octubre.cat/www/wp-content/uploads/2020/07/activitat1508.jpg
END:VEVENT
END:VCALENDAR