BEGIN:VCALENDAR
VERSION:2.0
PRODID:-//Octubre Centre de Cultura Contemporània - ECPv5.1.6//NONSGML v1.0//EN
CALSCALE:GREGORIAN
METHOD:PUBLISH
X-WR-CALNAME:Octubre Centre de Cultura Contemporània
X-ORIGINAL-URL:https://octubre.cat
X-WR-CALDESC:Events for Octubre Centre de Cultura Contemporània
BEGIN:VTIMEZONE
TZID:Europe/Andorra
BEGIN:DAYLIGHT
TZOFFSETFROM:+0100
TZOFFSETTO:+0200
TZNAME:CEST
DTSTART:20160327T010000
END:DAYLIGHT
BEGIN:STANDARD
TZOFFSETFROM:+0200
TZOFFSETTO:+0100
TZNAME:CET
DTSTART:20161030T010000
END:STANDARD
END:VTIMEZONE
BEGIN:VEVENT
DTSTART;TZID=Europe/Andorra:20160408T000000
DTEND;TZID=Europe/Andorra:20160515T000000
DTSTAMP:20260421T164033
CREATED:20200729T171731Z
LAST-MODIFIED:20200903T162628Z
UID:10592-1460073600-1463270400@octubre.cat
SUMMARY:'Llampades en la foscor. Síria\, 2011-2015'. Fotografies de Ricard Garcia Vilanova
DESCRIPTION:Exposició inclosa en PhotOn Festival (Festival Internacional de Fotoperiodisme de València). \nRicard Garcia Vilanova (Barcelona\, 1971) és l’únic periodista gràfic que ha estat a Síria des de l’inici del conflicte. El novembre del 2011\, en el marc de les anomenades «primaveres àrabs»\, es va infiltrar a Jabal al-Zawiya\, a la província d’Idlib\, i va participar en les primeres manifestacions contra el règim de Baixar al-Assad. La població estava tan atemorida per la Mukhabarat (la policia política) que\, per por de ser identificada a les fotografies dels diaris\, demanava als periodistes de retratar només els infants. També va ser testimoni de com aquest règim repressor dissolia les manifestacions amb els trets dels franctiradors\, i després amb els tancs. La població civil s’enfrontava amb un exèrcit modern que atacava amb artilleria des d’helicòpters i avions de reacció\, amb míssils Scud i fins i tot amb armes químiques. Les revoltes van derivar en una guerra de diversos bàndols però una sola víctima: la població civil\, obligada a combatre o a sobreviure. Finalment\, l’expansió de l’Estat Islàmic a Síria i a l’Iraq ha tornat a transformar aquest conflicte. Ricard Garcia Vilanova treballa alhora amb una càmera fotogràfica i una de vídeo. Per a totes dues eines fa servir un objectiu gran angular perquè\, com deia Robert Capa\, «si les teves fotografies no són prou bones és que no t’has acostat prou». Pràcticament no hi ha aire entre l’ull del periodista i la mirada davant de l’objectiu. Aquí no hi ha la pretesa objectivitat del reporter perquè aquesta objectivitat l’ha de posar\, si així ho decideix\, l’espectador. Un espectador no gaire diferent dels personatges retratats per Garcia Vilanova\, atrapats en un conflicte que s’acarnissa amb els éssers més indefensos. \nRicard Garcia Vilanova és periodista gràfic freelance. Ha publicat les seves fotografies en medis nord-americans i europeus: Life\, Newsweek\, The New York Times\, The Wall Street Journal\, Le Monde o La Vanguardia. I els seus videos han estat emesos per la CNN\, BBC i ITN\, entre d’altres. És autor d’un documental per al programa 30 minuts\, de TV3\, “Sota el setge”\, emès l’octubre del 2012. Ha estat premiat –juntament amb Alberto Arce– amb el Rory Peck Award 2012\, i nominat a un Emmy per la cobertura de la guerra civil Síria\, amb l’equip de la CNN. \nUna producció de La Virreina Centre de la Imatge – Ajuntament de Barcelona\nComissari: Ricard Mas\nCoordinació general: Eva Carbó\nCoordinació de l’exposició: Montse Casanovas\nCoordinació de la producció: Patricia García\nTraduccions i correccions: Judit Cusidó\, Carlos Mayor\, Aisha Prigann (Barcelona Kontext)\nLaboratori: EGM\nEmmarcaments: Angle\nProducció gràfica: Maud Gran Format\nCol·laboradors: TVC-TV3\, CNN
URL:https://octubre.cat/activitat/llampades-en-la-foscor-siria-2011-2015-fotografies-de-ricard-garcia-vilanova/
LOCATION:Sala d’exposicions
CATEGORIES:Exposicions
ATTACH;FMTTYPE=image/jpeg:https://octubre.cat/www/wp-content/uploads/2020/07/activitat2544.jpg
END:VEVENT
END:VCALENDAR