BEGIN:VCALENDAR
VERSION:2.0
PRODID:-//Octubre Centre de Cultura Contemporània - ECPv5.1.6//NONSGML v1.0//EN
CALSCALE:GREGORIAN
METHOD:PUBLISH
X-WR-CALNAME:Octubre Centre de Cultura Contemporània
X-ORIGINAL-URL:https://octubre.cat
X-WR-CALDESC:Events for Octubre Centre de Cultura Contemporània
BEGIN:VTIMEZONE
TZID:Europe/Andorra
BEGIN:DAYLIGHT
TZOFFSETFROM:+0100
TZOFFSETTO:+0200
TZNAME:CEST
DTSTART:20100328T010000
END:DAYLIGHT
BEGIN:STANDARD
TZOFFSETFROM:+0200
TZOFFSETTO:+0100
TZNAME:CET
DTSTART:20101031T010000
END:STANDARD
END:VTIMEZONE
BEGIN:VEVENT
DTSTART;TZID=Europe/Andorra:20101116T190000
DTEND;TZID=Europe/Andorra:20101116T190000
DTSTAMP:20260420T234917
CREATED:20200729T165201Z
LAST-MODIFIED:20200730T042619Z
UID:9015-1289934000-1289934000@octubre.cat
SUMMARY:Llàgrimes de sal
DESCRIPTION:Dimarts 16 de novembre\, a les 19.00h: “Llàgrimes de sal”\, espectacle de dansa a càrrec de la companyia Versió Àcida.   \n  \n  \n\nEspectacle de dansa a càrrec de la companyia Versió Àcida\, amb coreografia de Catalina Carrasco.  Un viatge interior. Un mar de sensacions. Un pescador com a guia que acompanya el nostre personatge en el seu camí\, en la seua immersió en les profunditats de la condició humana. De la innocència al desencant. De l’alegria a la nostàlgia. Del somni a la frustració. I\, al final\, la soledat\, la sempre desesperant soledat. Tot evoca la mar: plàstics que es tornen ones; veles que es converteixen en vestit; una taula-vaixell; un arbre de la memòria… La il·lusió\, el somni\, el desig\, la passió\, tot s’esvaeix en llàgrimes\, llàgrimes de tristesa\, llàgrimes de dolor… llàgrimes de sal.
URL:https://octubre.cat/activitat/llagrimes-de-sal/
LOCATION:No definit
CATEGORIES:Espai Illes Balears
ATTACH;FMTTYPE=image/jpeg:https://octubre.cat/www/wp-content/uploads/2020/07/activitat1297.jpg
END:VEVENT
END:VCALENDAR