BEGIN:VCALENDAR
VERSION:2.0
PRODID:-//Octubre Centre de Cultura Contemporània - ECPv5.1.6//NONSGML v1.0//EN
CALSCALE:GREGORIAN
METHOD:PUBLISH
X-WR-CALNAME:Octubre Centre de Cultura Contemporània
X-ORIGINAL-URL:https://octubre.cat
X-WR-CALDESC:Events for Octubre Centre de Cultura Contemporània
BEGIN:VTIMEZONE
TZID:Europe/Andorra
BEGIN:DAYLIGHT
TZOFFSETFROM:+0100
TZOFFSETTO:+0200
TZNAME:CEST
DTSTART:20110327T010000
END:DAYLIGHT
BEGIN:STANDARD
TZOFFSETFROM:+0200
TZOFFSETTO:+0100
TZNAME:CET
DTSTART:20111030T010000
END:STANDARD
END:VTIMEZONE
BEGIN:VEVENT
DTSTART;TZID=Europe/Andorra:20110516T193000
DTEND;TZID=Europe/Andorra:20110516T193000
DTSTAMP:20260421T092034
CREATED:20200729T165533Z
LAST-MODIFIED:20200730T042825Z
UID:9237-1305574200-1305574200@octubre.cat
SUMMARY:Llach\, la revolta permanent
DESCRIPTION:Dilluns 16 de maig\, a les 19.30h: “Llach\, la revolta permanent”. Projecció del documental.   \n  \n  \n\nPresentació i projecció del documental.   Sinopsi El 3 de març de 1976 a Vitòria\, en el transcurs d’una assemblea de treballadors\, l’actuació policial va causar cinc morts i més de cent ferits de bala. Aquella mateixa nit\, empès per la ràbia\, Llach va compondre la que seria una de les cançons més emblemàtiques d’aquells anys: “Campanades a morts”. Trenta anys més tard\, Lluís Llach torna a Vitòria per interpretar-la en un concert multitudinari en record de les víctimes del 3 de març.  Un viatge en l’espai i en el temps conduit per la música i les paraules del propi Llach\, on es creuen records autobiogràfics amb les imatges i els testimonis dels protagonistes d’aquells fets. Aquesta és la història de una cançó\, el retrat de la persona que la va escriure i la crònica dels fets que la van provocar. Un  clam i una exigència de revolta permanent contra l’oblit.  Fitxa tècnica Direcció: Lluís Danès Guió: Lluís Arcarazo i Lila Pla Producció: Jaume Roures Música: Lluís Llach Direcció de fotografia: Emili Guirao So: David Mata Muntatge: Roger Gispert Gènere: Documental Duració: 90 min.  Idioma: Català\, castellà\, euskera i francès Any: 2007
URL:https://octubre.cat/activitat/llach-la-revolta-permanent/
LOCATION:No definit
CATEGORIES:Cinema
ATTACH;FMTTYPE=image/jpeg:https://octubre.cat/www/wp-content/uploads/2020/07/activitat1465.jpg
END:VEVENT
END:VCALENDAR