BEGIN:VCALENDAR
VERSION:2.0
PRODID:-//Octubre Centre de Cultura Contemporània - ECPv5.1.6//NONSGML v1.0//EN
CALSCALE:GREGORIAN
METHOD:PUBLISH
X-WR-CALNAME:Octubre Centre de Cultura Contemporània
X-ORIGINAL-URL:https://octubre.cat
X-WR-CALDESC:Events for Octubre Centre de Cultura Contemporània
BEGIN:VTIMEZONE
TZID:Europe/Andorra
BEGIN:DAYLIGHT
TZOFFSETFROM:+0100
TZOFFSETTO:+0200
TZNAME:CEST
DTSTART:20090329T010000
END:DAYLIGHT
BEGIN:STANDARD
TZOFFSETFROM:+0200
TZOFFSETTO:+0100
TZNAME:CET
DTSTART:20091025T010000
END:STANDARD
END:VTIMEZONE
BEGIN:VEVENT
DTSTART;TZID=Europe/Andorra:20090526T193000
DTEND;TZID=Europe/Andorra:20090526T193000
DTSTAMP:20260420T215203
CREATED:20200729T182427Z
LAST-MODIFIED:20200729T182427Z
UID:12822-1243366200-1243366200@octubre.cat
SUMMARY:Lió
DESCRIPTION:Dimarts 26 de maig\, a les 19.30h: “Lió. Una aposta pels espais verds”\, conferència a càrrec de Daniel Boulens\, director del Departament d’Espais Verts de Lió.   \n  \n  \n\nConferència “Lió. Una aposta pels espais verds”\, a càrrec de Daniel Boulens.   Daniel Boulens és director del Departament d’Espais Verts de Lió.   Contrapunt a càrrec de Vicent Garcia\, arquitecte i professor de Projectes de la Universitat Politècnica de València.   Modera Joan Olmos\, doctor enginyer de Camins i professor titular d’Urbanismede la Universitat Politècnica de València.
URL:https://octubre.cat/activitat/lio/
LOCATION:No definit
CATEGORIES:Institut del Territori
ATTACH;FMTTYPE=image/jpeg:https://octubre.cat/www/wp-content/uploads/2020/07/conferencia1.jpg
END:VEVENT
END:VCALENDAR