BEGIN:VCALENDAR
VERSION:2.0
PRODID:-//Octubre Centre de Cultura Contemporània - ECPv5.1.6//NONSGML v1.0//EN
CALSCALE:GREGORIAN
METHOD:PUBLISH
X-WR-CALNAME:Octubre Centre de Cultura Contemporània
X-ORIGINAL-URL:https://octubre.cat
X-WR-CALDESC:Events for Octubre Centre de Cultura Contemporània
BEGIN:VTIMEZONE
TZID:Europe/Andorra
BEGIN:DAYLIGHT
TZOFFSETFROM:+0100
TZOFFSETTO:+0200
TZNAME:CEST
DTSTART:20180325T010000
END:DAYLIGHT
BEGIN:STANDARD
TZOFFSETFROM:+0200
TZOFFSETTO:+0100
TZNAME:CET
DTSTART:20181028T010000
END:STANDARD
END:VTIMEZONE
BEGIN:VEVENT
DTSTART;TZID=Europe/Andorra:20180111T193000
DTEND;TZID=Europe/Andorra:20180111T193000
DTSTAMP:20260421T072126
CREATED:20200729T190239Z
LAST-MODIFIED:20200729T190239Z
UID:13306-1515699000-1515699000@octubre.cat
SUMMARY:Lick & Listen
DESCRIPTION:Dijous 11 de gener a les 19.30h. Música a càrrec de Sr. Charli + Martí Guillem\, Carles Soler aka Biano i  Jorge Marredo Rosa aka Kippel. Entrades a 4 i 5 euros.  \n  \n  \n\n Adult films with live music  Fecunda Lab i PinPanPun organitzen Lick&Listen en la Terreta.  Lick&Listen és un event que ve des de Berlín\, en el qual es projecten pel·lícules per a adults\, ètiques\, en silenci\, però amb música en directe.  Films d’Abigail Gnash\, Ethan Folk\, Ty Wardwell\, Flo Cane\, Nikolaj Tange Lange\, Colby Keller\, Sally Fenaux Barleycorn i Poppy Sanchez.  Música a càrrec de Sr. Charli + Martí Guillem\, Carles Soler aka Biano i  Jorge Marredo Rosa aka Kippel.  Anticipada: 4 euros En taquilla: 5 euros
URL:https://octubre.cat/activitat/lick-listen/
CATEGORIES:Música
ATTACH;FMTTYPE=image/jpeg:https://octubre.cat/www/wp-content/uploads/2020/07/activitat2945.jpg
END:VEVENT
END:VCALENDAR