BEGIN:VCALENDAR
VERSION:2.0
PRODID:-//Octubre Centre de Cultura Contemporània - ECPv5.1.6//NONSGML v1.0//EN
CALSCALE:GREGORIAN
METHOD:PUBLISH
X-WR-CALNAME:Octubre Centre de Cultura Contemporània
X-ORIGINAL-URL:https://octubre.cat
X-WR-CALDESC:Events for Octubre Centre de Cultura Contemporània
BEGIN:VTIMEZONE
TZID:Europe/Andorra
BEGIN:DAYLIGHT
TZOFFSETFROM:+0100
TZOFFSETTO:+0200
TZNAME:CEST
DTSTART:20150329T010000
END:DAYLIGHT
BEGIN:STANDARD
TZOFFSETFROM:+0200
TZOFFSETTO:+0100
TZNAME:CET
DTSTART:20151025T010000
END:STANDARD
END:VTIMEZONE
BEGIN:VEVENT
DTSTART;TZID=Europe/Andorra:20151223T190000
DTEND;TZID=Europe/Andorra:20151223T190000
DTSTAMP:20260421T033105
CREATED:20200729T171302Z
LAST-MODIFIED:20200730T041531Z
UID:10305-1450897200-1450897200@octubre.cat
SUMMARY:'Libertarias'\, de Vicente Aranda
DESCRIPTION:Dimecres 7 d’octubre a les 19.00h. Inauguració del cicle de cinema Barcelona Escenari 2015.  \n  \n  \n\n Projecció en homenatge al director\, mort aquest any. La presentació del cicle Barcelona Escenari i de la pel·lícula anirà a càrrec d’Antonio Lloréns (director del cicle) i Jorge Castillejo.  En els primers dies de la Guerra Civil Espanyola Maria\, una jove monja que fuig del seu convent\, coneix casualment un grup de milicianes anarquistes de l’organització feminista del moviment llibertari espanyol anomenada Mujeres Libres\, dues militants i una antiga prostituta. Les acompanyarà al front de l’Ebre prop de Saragossa\, on viurà els rigors de la guerra i de la revolució social espanyola de 1936.  Direcció: Vicente Aranda (1996) Direcció artística: Josep Rosell i Palau Producció: Andrés Vicente Gómez Guió: Vicente Aranda\, José Luis Guarner\, Antonio Rabinad Repartiment: Ana Belén\, Victoria Abril\, Ariadna Gil\, Blanca Apilánez\, Laura Mañá\, Loles León\, Jorge Sanz\, José Sancho\, Joan Crosas Durada: 125 minuts  Cicle organitzat per l’Octubre Centre de Cultura Contemporània amb el patrocini de l’Institut de Cultura de Barcelona Col·labora: Mostra Viva Direcció del cicle: Antonio Lloréns
URL:https://octubre.cat/activitat/libertarias-de-vicente-aranda/
LOCATION:Sala d’actes
CATEGORIES:Barcelona escenari 2015 (cinema)
ATTACH;FMTTYPE=image/jpeg:https://octubre.cat/www/wp-content/uploads/2020/07/activitat2395.jpg
END:VEVENT
END:VCALENDAR