BEGIN:VCALENDAR
VERSION:2.0
PRODID:-//Octubre Centre de Cultura Contemporània - ECPv5.1.6//NONSGML v1.0//EN
CALSCALE:GREGORIAN
METHOD:PUBLISH
X-WR-CALNAME:Octubre Centre de Cultura Contemporània
X-ORIGINAL-URL:https://octubre.cat
X-WR-CALDESC:Events for Octubre Centre de Cultura Contemporània
BEGIN:VTIMEZONE
TZID:Europe/Andorra
BEGIN:DAYLIGHT
TZOFFSETFROM:+0100
TZOFFSETTO:+0200
TZNAME:CEST
DTSTART:20140330T010000
END:DAYLIGHT
BEGIN:STANDARD
TZOFFSETFROM:+0200
TZOFFSETTO:+0100
TZNAME:CET
DTSTART:20141026T010000
END:STANDARD
END:VTIMEZONE
BEGIN:VEVENT
DTSTART;TZID=Europe/Andorra:20140624T190000
DTEND;TZID=Europe/Andorra:20140624T190000
DTSTAMP:20260421T072512
CREATED:20200729T170517Z
LAST-MODIFIED:20200730T041148Z
UID:9806-1403636400-1403636400@octubre.cat
SUMMARY:L'hora del Te Verd: Cooperar a pesar del saqueig
DESCRIPTION:Dimarts 24 de juny a les 19.00h. Amb Fernando Contreras\, president de la Coordinadora Valenciana d’ONGD’s  \n  \n  \n\n Debat amb Fernando Contreras\, president de la Coordinadora Valenciana d’ONGD’s  Organitzat per L’Hora del Te Verd / Equo  Dimecres 28 de maig de 2014\, el TSJ de la CV dicta sentència en el mal anomenat Cas Cooperació (seria més apropiat dir-li Cas Blasco)\, un assumpte de corrupció pel que es desviaren més de 2 milions d’euros destinats a la cooperació i s’utilitzaren en comprar pisos en València. El tribunal va considerar a l’ex Conseller Rafael Blasco com màxim responsable d’esta malversació de diners públics i el va condemnar a 8 anys de presó i 20 de inhabilitació.  El cas Blasco va saltar a primera plana de l’actualitat en octubre de 2010\, quan les diputades autonòmiques Clara Tirado (PSPV) i Mireia Mollà el varen denunciar en seu parlamentària.  Polítics i funcionaris implicats en buidar els fons destinats a la cooperació no són un model a imitar\, més bé al contrari. A pesar d’això\, el govern d’Alberto Fabra manté a molts dels condemnats en els seus llocs de treball\, sense obrir-les cap expedient administratiu. Un motiu per a la reflexió.  El cas Blasco ha incidit directament en un aspecte de les polítiques públiques que des de fa temps deixa molt que desitjar\, les de solidaritat i cooperació amb els més desafavorits. L’objectiu d’arribar al 0\,7% del PIB dedicat a estes polítiques mai s’ha complit. El Consell de la Generalitat Valenciana al màxim que ha arribat ha sigut al 0\,4%\, i això va ser abans de que en nom de la mal anomenada crisi es reduïra esta assignació a valors de vergonya.   Tal vegada el pitjor en este cas de balafiament de recursos públics encara està per vindre. Ja que els diners furtats a la cooperació sembla que mai tornaran al seu destí.  Per a parlar de com afronta el món de la cooperació per al desenvolupament el dia després d’aquest escàndol\, contarem amb la participació de FERNANDO CONTRERAS\, economista i president de la Coordinadora valenciana d’ONGD’s. També és delegat d’OXFAM-Intermon al País Valencià\, Murcia i Balears.
URL:https://octubre.cat/activitat/lhora-del-te-verd-cooperar-a-pesar-del-saqueig/
LOCATION:Aula 2
CATEGORIES:Conferències i congressos
ATTACH;FMTTYPE=image/jpeg:https://octubre.cat/www/wp-content/uploads/2020/07/activitat2097.jpg
END:VEVENT
END:VCALENDAR