BEGIN:VCALENDAR
VERSION:2.0
PRODID:-//Octubre Centre de Cultura Contemporània - ECPv5.1.6//NONSGML v1.0//EN
CALSCALE:GREGORIAN
METHOD:PUBLISH
X-WR-CALNAME:Octubre Centre de Cultura Contemporània
X-ORIGINAL-URL:https://octubre.cat
X-WR-CALDESC:Events for Octubre Centre de Cultura Contemporània
BEGIN:VTIMEZONE
TZID:Europe/Andorra
BEGIN:DAYLIGHT
TZOFFSETFROM:+0100
TZOFFSETTO:+0200
TZNAME:CEST
DTSTART:20190331T010000
END:DAYLIGHT
BEGIN:STANDARD
TZOFFSETFROM:+0200
TZOFFSETTO:+0100
TZNAME:CET
DTSTART:20191027T010000
END:STANDARD
END:VTIMEZONE
BEGIN:VEVENT
DTSTART;TZID=Europe/Andorra:20190228T000000
DTEND;TZID=Europe/Andorra:20190330T000000
DTSTAMP:20260421T191542
CREATED:20200729T173310Z
LAST-MODIFIED:20230519T090750Z
UID:11377-1551312000-1553904000@octubre.cat
SUMMARY:"l'eXposició a l'eXcusat"\, de Manel Costa
DESCRIPTION:poesia eXperimental \nInauguració: dijous 28 de febrer a les 19.30h\, amb la participació de Lucía Peiró (performer). \nNo sóc futurista\, però també. No sóc dadaista\, però també. No sóc surrealista\, però també. No sóc patafísic\, però també. No sóc absurdista\, però també. No sóc fluxista\, però també. No sóc zajista\, però també. No sóc anquista\, però també. Sóc estult\, neci\, toix i babau i per tant artista\, però també el contrari. Ha arribat el temps en què la paraula ha deixat d’ésser exclusivament instrument de poetes\, de la mateixa manera que la música de músics\, que la pintura de pintors… fem l’art tots! La creativitat\, la imaginació\, ha deixat d’ésser patrimoni d’una elit; per fi han baixat als suburbis. Envaïm\, sense complexos\, tots els camps de l’art! L’art útil és\, indefectiblement\, inútil L’art inútil és\, irremeiablement\, útil.
URL:https://octubre.cat/activitat/lexposicio-a-lexcusat-de-manel-costa/
LOCATION:Excusats
CATEGORIES:Exposicions
ATTACH;FMTTYPE=image/jpeg:https://octubre.cat/www/wp-content/uploads/2020/07/activitat3220.jpg
END:VEVENT
END:VCALENDAR