BEGIN:VCALENDAR
VERSION:2.0
PRODID:-//Octubre Centre de Cultura Contemporània - ECPv5.1.6//NONSGML v1.0//EN
CALSCALE:GREGORIAN
METHOD:PUBLISH
X-WR-CALNAME:Octubre Centre de Cultura Contemporània
X-ORIGINAL-URL:https://octubre.cat
X-WR-CALDESC:Events for Octubre Centre de Cultura Contemporània
BEGIN:VTIMEZONE
TZID:Europe/Andorra
BEGIN:DAYLIGHT
TZOFFSETFROM:+0100
TZOFFSETTO:+0200
TZNAME:CEST
DTSTART:20190331T010000
END:DAYLIGHT
BEGIN:STANDARD
TZOFFSETFROM:+0200
TZOFFSETTO:+0100
TZNAME:CET
DTSTART:20191027T010000
END:STANDARD
END:VTIMEZONE
BEGIN:VEVENT
DTSTART;TZID=Europe/Andorra:20191016T000000
DTEND;TZID=Europe/Andorra:20191029T000000
DTSTAMP:20260425T145531
CREATED:20200729T173453Z
LAST-MODIFIED:20200905T152759Z
UID:11485-1571184000-1572307200@octubre.cat
SUMMARY:L’èxode rohingya
DESCRIPTION:Xerrada sobre l’exposició: dijous 17 d’octubre a les 19.00h. \nL’exposició tracta sobre el camp de refugiats més gran del món i en el qual viu l’ètnia rohingya\, una de les poblacions més oblidades de l’actualitat. Víctimes de dècades de persecució a Myanmar\, a l’agost de 2017 van ser l’objectiu d’una violenta operació militar per part de les forces de seguretat birmanes\, fet que va causar el major èxode en la història d’aquesta comunitat. Ara\, més de 900.000 rohingyas malviuen en condicions d’amuntegament en assentaments precaris fets de canyes de bambú i plàstic al districte de Cox’s Bazar\, a Bangla Desh. Perquè darrere d’aquest número s’amaguen persones i històries que no mereixen quedar en l’oblit\, ‘L’èxode rohingya’ busca que et poses en la seua pell. \nPer a això\, comptem amb visites guiades i un vídeo 360º. Per realitzar la visita guiada cal inscriure’s enviant un correu electrònic a prensa.este@barcelona.msf.org o trucant al telèfon 96 391 61 33. La realitat virtual estarà disponible durant les visites guiades\, com també els dijous i divendres de 17 a 21 h\, i els dissabtes d’11 a 13 h. \nUna producció de Metges Sense Fronteres amb la col·laboració de l’Octubre CCC.
URL:https://octubre.cat/activitat/lexode-rohingya/
LOCATION:Hall
CATEGORIES:Exposicions
ATTACH;FMTTYPE=image/jpeg:https://octubre.cat/www/wp-content/uploads/2020/07/activitat3340.jpg
END:VEVENT
END:VCALENDAR