BEGIN:VCALENDAR
VERSION:2.0
PRODID:-//Octubre Centre de Cultura Contemporània - ECPv5.1.6//NONSGML v1.0//EN
CALSCALE:GREGORIAN
METHOD:PUBLISH
X-WR-CALNAME:Octubre Centre de Cultura Contemporània
X-ORIGINAL-URL:https://octubre.cat
X-WR-CALDESC:Events for Octubre Centre de Cultura Contemporània
BEGIN:VTIMEZONE
TZID:Europe/Andorra
BEGIN:DAYLIGHT
TZOFFSETFROM:+0100
TZOFFSETTO:+0200
TZNAME:CEST
DTSTART:20150329T010000
END:DAYLIGHT
BEGIN:STANDARD
TZOFFSETFROM:+0200
TZOFFSETTO:+0100
TZNAME:CET
DTSTART:20151025T010000
END:STANDARD
END:VTIMEZONE
BEGIN:VEVENT
DTSTART;TZID=Europe/Andorra:20150613T170000
DTEND;TZID=Europe/Andorra:20150613T170000
DTSTAMP:20260422T032857
CREATED:20200729T171152Z
LAST-MODIFIED:20200730T041501Z
UID:10234-1434214800-1434214800@octubre.cat
SUMMARY:L'Exhibició. Festival de Cultura Sexplícita
DESCRIPTION:Divendres 12 de juny a partir de les 17.00h. Projeccions de cinema. L’event inclou l’exposició “Pornosigil”\, del grup FiDEX.  \n  \n  \n\n Organitzen: Proyectos Poplíteos i Toytool amb la col·laboració de l’Octubre CCC.  L’Exhibició\, Festival de Cultura Sexplícita es devideix en Arts Cinematogràfiques\, Escèniques i Gràfiques i s’uneixen pel nexe d’allò sexualment explícit. Plaer visual i consciència política estan lligats estretament. A l’Exhibició es pretén generar\, a més\, un debat sobre la nostra pròpia sexualitat\, sobre els nostres hàbits de consum sexplícit i sobre la nostra educació sexual. La Pornografia també es cultura.  Nota: les activitats es realitzen a diversos llocs de la ciutat de València: l’Octubre CCC\, Sporting Club Russafa\, etc.  Programa a l’Octubre CCC:  Dijous 11 de juny a les 20.00h. –Inauguració de l’exposició Pornosigil\, grimori sexual del grup FiDEX  Divendres 12 de juny a partir de les 17.00h: –Cinema Sexplícit amb obre de Lucie Blush\, Antonio da Silva\, Shine Louise Houston\, Black Mind\, Logotorium\, Trouble Films\, Amarna Miller\, etc:  1. Documental Sisterhood_47 min Break 2. Fucking Baked_ 12 min 3. Eclipse_4 min 4. Gingers_14 min 5. Flare_8 min 7. Action Painting_7 min Break 8. Baby\, You’re frozen_19 min 9. Fuck Art SchoolUntitled III_10 min 10. We cum in peace_10 min 11. Neurosexpornoia_10 min 12. Campos de Castilla_5 min 13. Zolushka_5 min Break 14. Put the needle on the record_11 min 15. Pix_3 min 16. Amaury & Kay 17. Black Mind_7 min
URL:https://octubre.cat/activitat/lexhibicio-festival-de-cultura-sexplicita/
LOCATION:Sala d’actes
CATEGORIES:Conferències i congressos
ATTACH;FMTTYPE=image/jpeg:https://octubre.cat/www/wp-content/uploads/2020/07/activitat2355.jpg
END:VEVENT
END:VCALENDAR