BEGIN:VCALENDAR
VERSION:2.0
PRODID:-//Octubre Centre de Cultura Contemporània - ECPv5.1.6//NONSGML v1.0//EN
CALSCALE:GREGORIAN
METHOD:PUBLISH
X-WR-CALNAME:Octubre Centre de Cultura Contemporània
X-ORIGINAL-URL:https://octubre.cat
X-WR-CALDESC:Events for Octubre Centre de Cultura Contemporània
BEGIN:VTIMEZONE
TZID:Europe/Andorra
BEGIN:DAYLIGHT
TZOFFSETFROM:+0100
TZOFFSETTO:+0200
TZNAME:CEST
DTSTART:20080330T010000
END:DAYLIGHT
BEGIN:STANDARD
TZOFFSETFROM:+0200
TZOFFSETTO:+0100
TZNAME:CET
DTSTART:20081026T010000
END:STANDARD
END:VTIMEZONE
BEGIN:VEVENT
DTSTART;TZID=Europe/Andorra:20080507T190000
DTEND;TZID=Europe/Andorra:20080507T190000
DTSTAMP:20260420T215552
CREATED:20200729T181810Z
LAST-MODIFIED:20200730T035700Z
UID:12529-1210186800-1210186800@octubre.cat
SUMMARY:L’evolució tectònica dels marges continentals de l’Oceà Pacífic
DESCRIPTION:Dimecres 7\, 19.00h.  Conferència a càrrec de César R. Ranero (ICREA\, Institut de Ciències del Mar-CSIC).  \n  \n  \n\nConferència a càrrec de César R. Ranero\, llicenciat en Geologia per la Universitat del País Basc i doctor per la de Barcelona\, amb una tesi realitzada a ‘Institut de Ciències de la Terra Jaume Almera (CSIC). Ha investigat prop de 13 anys al centre d’investigacions marines IFM-GEOMAR de Kiel. Actualment és Professor d’investigació ICREA a l’Institut de Ciències del Mar (Centre Mediterrani d’Investigacions Marines i Ambientals\, CSIC) a Barcelona.  Els marges dels continents circumpacífics formen el famós «cinturó de foc» on s’esdevé la major activitat tectònica i volcànica de la Terra. La dinàmica d’aquests marges està controlada per l’afonament de les plaques tectòniques més denses sota les més lleugeres. Els desplaçaments entre plaques causen el moviment de grans volum de roca i fluids que transporten matèria i energia i produeixen molts processos com els terratrèmols o els volcans del Pacífic. En les àrees submergidas evoluciona el relleu amb gegantins lliscaments de terreny. A les fondàries submarines hi viuen faunes quimiosintètiques en la completa foscor. Presentarem els avenços científics produïts per les expedicions dels darrers anys emprant les tecnologies més modernes.  Aquesta és la tercera xarrada  de Les exploracions inacabades\, un cicle de conferències de l’Espai Ciència amb motiu de l’Any Internacional de la Terra.
URL:https://octubre.cat/activitat/levolucio-tectonica-dels-marges-continentals-de-locea-pacific/
LOCATION:No definit
CATEGORIES:Espai Ciència
ATTACH;FMTTYPE=image/jpeg:https://octubre.cat/www/wp-content/uploads/2020/07/espaiciencia1.jpg
END:VEVENT
END:VCALENDAR