BEGIN:VCALENDAR
VERSION:2.0
PRODID:-//Octubre Centre de Cultura Contemporània - ECPv5.1.6//NONSGML v1.0//EN
CALSCALE:GREGORIAN
METHOD:PUBLISH
X-WR-CALNAME:Octubre Centre de Cultura Contemporània
X-ORIGINAL-URL:https://octubre.cat
X-WR-CALDESC:Events for Octubre Centre de Cultura Contemporània
BEGIN:VTIMEZONE
TZID:Europe/Andorra
BEGIN:DAYLIGHT
TZOFFSETFROM:+0100
TZOFFSETTO:+0200
TZNAME:CEST
DTSTART:20100328T010000
END:DAYLIGHT
BEGIN:STANDARD
TZOFFSETFROM:+0200
TZOFFSETTO:+0100
TZNAME:CET
DTSTART:20101031T010000
END:STANDARD
END:VTIMEZONE
BEGIN:VEVENT
DTSTART;TZID=Europe/Andorra:20100211T193000
DTEND;TZID=Europe/Andorra:20100211T193000
DTSTAMP:20260420T215547
CREATED:20200729T164645Z
LAST-MODIFIED:20200729T182726Z
UID:8685-1265916600-1265916600@octubre.cat
SUMMARY:L'Europa del nord
DESCRIPTION:Dijous 11 de febrer\, a les 19.30h: “L’Europa del Nord. Del romanticisme rus a l’experimentació atonal”. A càrrec del quartet de corda A piacere.   \n  \n  \n\nDel romanticisme rus a l’experimentació atonal:   Programa: A. Borodin (1833-1887)  Quartet nº2 en Re Major   Allegro moderato Scherzo: Allegro Notturno: Andante Finale: Andante-Vivace  D. Shostakovich (1906-1975)  Quartet nº8 en Do menor op.110   Largo-attacca Allegro molto-attacca Allegretto-attacca Largo-attacca Largo
URL:https://octubre.cat/activitat/leuropa-del-nord/
LOCATION:No definit
CATEGORIES:Cicle de Música de Cambra
ATTACH;FMTTYPE=image/jpeg:https://octubre.cat/www/wp-content/uploads/2020/07/activitat1029.jpg
END:VEVENT
END:VCALENDAR