BEGIN:VCALENDAR
VERSION:2.0
PRODID:-//Octubre Centre de Cultura Contemporània - ECPv5.1.6//NONSGML v1.0//EN
CALSCALE:GREGORIAN
METHOD:PUBLISH
X-WR-CALNAME:Octubre Centre de Cultura Contemporània
X-ORIGINAL-URL:https://octubre.cat
X-WR-CALDESC:Events for Octubre Centre de Cultura Contemporània
BEGIN:VTIMEZONE
TZID:Europe/Andorra
BEGIN:DAYLIGHT
TZOFFSETFROM:+0100
TZOFFSETTO:+0200
TZNAME:CEST
DTSTART:20170326T010000
END:DAYLIGHT
BEGIN:STANDARD
TZOFFSETFROM:+0200
TZOFFSETTO:+0100
TZNAME:CET
DTSTART:20171029T010000
END:STANDARD
END:VTIMEZONE
BEGIN:VEVENT
DTSTART;TZID=Europe/Andorra:20170203T180000
DTEND;TZID=Europe/Andorra:20170203T180000
DTSTAMP:20260420T222956
CREATED:20200729T172344Z
LAST-MODIFIED:20200729T185729Z
UID:10990-1486144800-1486144800@octubre.cat
SUMMARY:Les TIC a l'aula de llengua
DESCRIPTION:Divendres 3 de febrer a les 18.00h. Organitzat per la Universitat Oberta de Catalunya amb la col·laboració d’Un entre tants\, Escola Valenciana i l’Octubre CCC. Entrada per inscripció.  \n  \n  \n\n –18h00: Les TIC a l’aula de llengua. Una oportunitat per acompanyar el procés d’adquisició i aprenentatge de la competència comunicativa.  A càrrec de Carme Bové i Laura Corsà\, professores col·laboradores de la UOC.  En una societat cada vegada més digital\, en la qual la comunicació audiovisual (imatge\, so\, música) i textual (escriure\, llegir\, parlar i conversar) tenen un pes rellevant\, com s’ha d’orientar l’aprenentatge de la llengua a les aules? Les TIC ens poden fer la vida més fàcil? Poden ser una oportunitat per fer més significatiu l’aprenentatge i\, per tant\, per incrementar la motivació dels aprenents i dels docents? Són una oportunitat\, també\, per atendre la diversitat de necessitats que hi ha a les aules?  Les eines TIC no són en si la finalitat de l’aprenentatge\, en realitat han de ser invisibles a l’aula\, però han de fer fàcil l’accés a la informació\, el treball cooperatiu entre alumnes o entre membres de la comunitat educativa i la creació de productes o d’artefactes de comunicació.  –19h30: Presentació de la xarxa Un entre tants. Xarxa cooperativa d’experiències TIC per a l’ensenyament en valencià. A càrrec de Vicent Ferrer  1entretants és una xarxa de docents que aposta per l’ús de les TIC i per la defensa del valencià com a llengua d’ensenyament. Com a associació\, participa en trobades\, organitza jornades i cursos\, promou activitats i\, amb més de 700 membres\, manté una plataforma virtual de debat\, informació\, treball i intercanvi d’experiències.  — Organitzat per la Universitat Oberta de Catalunya amb la col·laboració d’Un entre tants\, Escola Valenciana i l’Octubre CCC.  Més informació i inscripcions.
URL:https://octubre.cat/activitat/les-tic-a-laula-de-llengua/
CATEGORIES:Conferències i congressos
ATTACH;FMTTYPE=image/jpeg:https://octubre.cat/www/wp-content/uploads/2020/07/activitat2757.jpg
END:VEVENT
END:VCALENDAR