BEGIN:VCALENDAR
VERSION:2.0
PRODID:-//Octubre Centre de Cultura Contemporània - ECPv5.1.6//NONSGML v1.0//EN
CALSCALE:GREGORIAN
METHOD:PUBLISH
X-WR-CALNAME:Octubre Centre de Cultura Contemporània
X-ORIGINAL-URL:https://octubre.cat
X-WR-CALDESC:Events for Octubre Centre de Cultura Contemporània
BEGIN:VTIMEZONE
TZID:Europe/Andorra
BEGIN:DAYLIGHT
TZOFFSETFROM:+0100
TZOFFSETTO:+0200
TZNAME:CEST
DTSTART:20060326T010000
END:DAYLIGHT
BEGIN:STANDARD
TZOFFSETFROM:+0200
TZOFFSETTO:+0100
TZNAME:CET
DTSTART:20061029T010000
END:STANDARD
BEGIN:DAYLIGHT
TZOFFSETFROM:+0100
TZOFFSETTO:+0200
TZNAME:CEST
DTSTART:20070325T010000
END:DAYLIGHT
BEGIN:STANDARD
TZOFFSETFROM:+0200
TZOFFSETTO:+0100
TZNAME:CET
DTSTART:20071028T010000
END:STANDARD
END:VTIMEZONE
BEGIN:VEVENT
DTSTART;TZID=Europe/Andorra:20061123T000000
DTEND;TZID=Europe/Andorra:20070108T000000
DTSTAMP:20260420T235714
CREATED:20200827T164239Z
LAST-MODIFIED:20251207T193331Z
UID:14393-1164240000-1168214400@octubre.cat
SUMMARY:Les ciutats i els seus escriptors: Borges i Kafka
DESCRIPTION:Instal·lacions audiovisuals\nComissari: Juan Insua\nUna producció del Centre de Cultura Contemporània de Barcelona (CCCB)\nAmb la col·laboració de la Fundació Caixa de Catalunya \n Cosmòpolis: Borges i Buenos Aires\nPocs escriptors han intimat tant amb la seva ciutat com ho feu Borges. Buenos Aires va ser per a ell bressol\, musa inspiradora i obsessió còsmica.\nD’infant va encisar-se del laberint de contrasts i personatges que intuïa observant de darrere la tanca metàl·lica del seu jardí. En aquella època\, motivat per la inquietud intel·lectual de la seva família\, beu de la inesgotable font de la biblioteca paterna\, en anglès i en castellà. Amb només sis anys\, l’absorció d’aquella infinitud de llibres li revelen el seu destí com a escriptor. Més tard\, quan els Borges tornen d’Europa al cap d’uns anys\, Jorge Luis tracta d’identificar els records de la seva estimada ciutat i en aquest intent de reconèixer-la\, la descobreix de nou en barris suburbials i la reinventa en el seu imaginari.\nLes seves lectures\, les noves coneixences es reflecteixen en una evolució estilística i alhora estètica del seu discurs i també de la seva Buenos Aires\, que va perdent la descripció costumista dels primers texts per anar adquirint un to universalista i fantàstic. Aquesta evolució és la que ens condueix tot al llarg de l’exposició Cosmòpolis. Borges i Buenos Aires. A través de les seves lectures\, dels seus propis llibres\, manuscrits\, fotografies i de diverses entrevistes coneixerem la figura de Borges i el seu fervor pel minotaure\, Buenos Aires. \nLa ciutat de K: Franz Kafka i Praga\nTot i que Praga no es fa explícita en l’obra de Kafka\, tots dos formen una parella indissociable. Praga actua en Kafka amb tota la seva potència metafòrica; el confina a un espai existencial\, el constreny a un estrangulament espacial i li dosifica perversament els seus secrets. Praga genera el mite\, la màgia obscura\, proporciona un magnífic decorat\, però detesta les evidències. La ciutat de K: Franz Kafka i Praga és un cop d’ull a través de la mirada de l’escriptor\, un descens a les profunditats de la seva ciutat\, ajustat al seu ventall sensorial i al seu registre cognitiu. \n 
URL:https://octubre.cat/activitat/les-ciutats-i-els-seus-escriptors-borges-i-kafka/
LOCATION:Sala d’exposicions
CATEGORIES:Exposicions
ATTACH;FMTTYPE=image/jpeg:https://octubre.cat/www/wp-content/uploads/2020/08/52QFOEP4JNABZEW6TZ2LTBG32E.jpg
END:VEVENT
END:VCALENDAR