BEGIN:VCALENDAR
VERSION:2.0
PRODID:-//Octubre Centre de Cultura Contemporània - ECPv5.1.6//NONSGML v1.0//EN
CALSCALE:GREGORIAN
METHOD:PUBLISH
X-WR-CALNAME:Octubre Centre de Cultura Contemporània
X-ORIGINAL-URL:https://octubre.cat
X-WR-CALDESC:Events for Octubre Centre de Cultura Contemporània
BEGIN:VTIMEZONE
TZID:Europe/Andorra
BEGIN:DAYLIGHT
TZOFFSETFROM:+0100
TZOFFSETTO:+0200
TZNAME:CEST
DTSTART:20100328T010000
END:DAYLIGHT
BEGIN:STANDARD
TZOFFSETFROM:+0200
TZOFFSETTO:+0100
TZNAME:CET
DTSTART:20101031T010000
END:STANDARD
END:VTIMEZONE
BEGIN:VEVENT
DTSTART;TZID=Europe/Andorra:20101103T200000
DTEND;TZID=Europe/Andorra:20101103T200000
DTSTAMP:20260421T223519
CREATED:20200729T165136Z
LAST-MODIFIED:20200730T042608Z
UID:8986-1288814400-1288814400@octubre.cat
SUMMARY:Les circumstàncies de Klara
DESCRIPTION:Dimecres 3 de novembre\, a les 20h: “Les circumstàncies de Klara”\, de Dea Loher. Lectura dramatitzada. Produccions La Tia Lola.  \n  \n  \n\nLectura dramatitzada de l’obra Les circumstàncies de Klara\, de Dea Loher. Produccions La Tía Lola.   Dea Loher és una de les dramaturgues contemporànies més valorades a Europa i més desconegudes al nostre país\, mai representada a València. Aquesta peça ens introdueix en el viatge personal de Klara\, una dona dels nostres dies\, que provoca que l’acomiaden de la feina i busca el seu lloc al món.  Intèrprets Eva Maria Bau\, David Duran\, Silvia Cabrera\, Cristina Soler\, Ventura Cano\, Jacobo J. Roger\, Isabel Caballero i Paco Zarzoso  Direcció Jacobo J. Roger  Ajudant de Direcció Isabel Caballero  Música en directe Ventura Cano  Traducció Albert Tola  Il·lustració Paula Valero
URL:https://octubre.cat/activitat/les-circumstancies-de-klara/
LOCATION:No definit
CATEGORIES:Teatre
ATTACH;FMTTYPE=image/jpeg:https://octubre.cat/www/wp-content/uploads/2020/07/activitat1283.jpg
END:VEVENT
END:VCALENDAR