BEGIN:VCALENDAR
VERSION:2.0
PRODID:-//Octubre Centre de Cultura Contemporània - ECPv5.1.6//NONSGML v1.0//EN
CALSCALE:GREGORIAN
METHOD:PUBLISH
X-WR-CALNAME:Octubre Centre de Cultura Contemporània
X-ORIGINAL-URL:https://octubre.cat
X-WR-CALDESC:Events for Octubre Centre de Cultura Contemporània
BEGIN:VTIMEZONE
TZID:Europe/Andorra
BEGIN:DAYLIGHT
TZOFFSETFROM:+0100
TZOFFSETTO:+0200
TZNAME:CEST
DTSTART:20120325T010000
END:DAYLIGHT
BEGIN:STANDARD
TZOFFSETFROM:+0200
TZOFFSETTO:+0100
TZNAME:CET
DTSTART:20121028T010000
END:STANDARD
END:VTIMEZONE
BEGIN:VEVENT
DTSTART;TZID=Europe/Andorra:20120326T190000
DTEND;TZID=Europe/Andorra:20120328T000000
DTSTAMP:20260421T070333
CREATED:20200729T165720Z
LAST-MODIFIED:20200730T042946Z
UID:9343-1332788400-1332892800@octubre.cat
SUMMARY:'Les aventures de Tintin'
DESCRIPTION:26\, 27 i 28 de març\, a les 19.00h: projecció del film “Les aventures de Tintin. El secret de l’Unicorn”\, dirigida per Steven Spielberg  \n  \n  \n\n‘Les aventures de Tintín. El secret de l’Unicorn’\, dirigida per Steven Spielberg  Organitzat per Acció Cultural del País Valencià amb la col·laboració del Servei de Política Lingüística de la Universitat de València.  Preu entrada –3 € –2 € socis d’ACPV –L’entrada serà gratuïta amb el carnet de la Universitat de València (més un acompanyant) i de la Universitat Politècnica de València (més un acompanyant).  Podeu passar a recollir les entrades a partir d’una hora abans de la projecció.
URL:https://octubre.cat/activitat/les-aventures-de-tintin/
LOCATION:No definit
CATEGORIES:Cinema
ATTACH;FMTTYPE=image/jpeg:https://octubre.cat/www/wp-content/uploads/2020/07/activitat1586.jpg
END:VEVENT
END:VCALENDAR