BEGIN:VCALENDAR
VERSION:2.0
PRODID:-//Octubre Centre de Cultura Contemporània - ECPv5.1.6//NONSGML v1.0//EN
CALSCALE:GREGORIAN
METHOD:PUBLISH
X-WR-CALNAME:Octubre Centre de Cultura Contemporània
X-ORIGINAL-URL:https://octubre.cat
X-WR-CALDESC:Events for Octubre Centre de Cultura Contemporània
BEGIN:VTIMEZONE
TZID:Europe/Andorra
BEGIN:DAYLIGHT
TZOFFSETFROM:+0100
TZOFFSETTO:+0200
TZNAME:CEST
DTSTART:20110327T010000
END:DAYLIGHT
BEGIN:STANDARD
TZOFFSETFROM:+0200
TZOFFSETTO:+0100
TZNAME:CET
DTSTART:20111030T010000
END:STANDARD
END:VTIMEZONE
BEGIN:VEVENT
DTSTART;TZID=Europe/Andorra:20110202T193000
DTEND;TZID=Europe/Andorra:20110202T193000
DTSTAMP:20260420T180944
CREATED:20200729T165414Z
LAST-MODIFIED:20260104T192134Z
UID:9155-1296675000-1296675000@octubre.cat
SUMMARY:Jordi Portabella. L'engany de la corrida
DESCRIPTION:Debat “L’engany de la corrida. Pel respecte als toros”\nAmb les intervencions de:\n—Jordi Portabella\, regidor de l’Ajuntament de Barcelona per ERC.\n—Artur Heras\, pintor\n—Alfons Cervera\, escriptor\n—Pilar Almeria\, actriu\n—Juli Peretó\, professor de Biologia de la Universitat de València. \nEn el seu llibre L’engany de la corrida. Pel respecte als toros (Tres i Quatre\, 2010)\, Portabella desmitifica cadascuna de les afirmacions que des dels estaments taurins es defensen com a justificatives de la continuació de tradicions cruels en la nostra societat; una a una\, cadascuna d’aquestes argumentacions van caient pel tamís de les veritats objectives que Portabella exposa\, tant des del punt de vista econòmic\, social\, cultural\, històric i científic. \nPortabella\, biòleg de formació\, sempre s’ha involucrat en la defensa dels animals\, i està aconseguint amb l’edició d’aquest llibre que moltes persones que es mostraven indiferents davant el sofriment animal en les corregudes\, hagen canviat el seu punt de vista i s’hagen sumat a les veus que des de la societat reclamen l’abolició d’un espectacle que és cruel amb els animals i que ens denigra com a societat.
URL:https://octubre.cat/activitat/lengany-de-la-corrida/
LOCATION:No definit
CATEGORIES:Tribuna
ATTACH;FMTTYPE=image/jpeg:https://octubre.cat/www/wp-content/uploads/2020/07/activitat1379.jpg
END:VEVENT
END:VCALENDAR