BEGIN:VCALENDAR
VERSION:2.0
PRODID:-//Octubre Centre de Cultura Contemporània - ECPv5.1.6//NONSGML v1.0//EN
CALSCALE:GREGORIAN
METHOD:PUBLISH
X-WR-CALNAME:Octubre Centre de Cultura Contemporània
X-ORIGINAL-URL:https://octubre.cat
X-WR-CALDESC:Events for Octubre Centre de Cultura Contemporània
BEGIN:VTIMEZONE
TZID:Europe/Andorra
BEGIN:DAYLIGHT
TZOFFSETFROM:+0100
TZOFFSETTO:+0200
TZNAME:CEST
DTSTART:20100328T010000
END:DAYLIGHT
BEGIN:STANDARD
TZOFFSETFROM:+0200
TZOFFSETTO:+0100
TZNAME:CET
DTSTART:20101031T010000
END:STANDARD
END:VTIMEZONE
BEGIN:VEVENT
DTSTART;TZID=Europe/Andorra:20101116T193000
DTEND;TZID=Europe/Andorra:20101116T193000
DTSTAMP:20260420T221534
CREATED:20200729T165226Z
LAST-MODIFIED:20200730T042630Z
UID:9044-1289935800-1289935800@octubre.cat
SUMMARY:L'energia nuclear no és una opció de futur
DESCRIPTION:Dimarts 16 de novembre\, a les 19.30h: “L’energia nuclear no és una opció de futur”\, amb Carles Arnal (Els Verds-Esquerra Ecologista PV) li José Juan Sanchis (Tanquem Cofrents).   \n  \n  \n\nXerrada L’energia nuclear no és una opció de futur  A càrrec de Carles Arnal (portaveu d’Els Verds-Esquerra Ecologista del País Valencià) i José Juan Sanchis (portaveu de la plataforma Tanquem Cofrents).   Organitzen: Mòdul Jean Monnet “Política Ambiental de la Unió Europea” (Universitat de València) Institut del Territori
URL:https://octubre.cat/activitat/lenergia-nuclear-no-es-una-opcio-de-futur/
LOCATION:No definit
CATEGORIES:Conferències i congressos
ATTACH;FMTTYPE=image/jpeg:https://octubre.cat/www/wp-content/uploads/2020/07/activitat1311.jpg
END:VEVENT
END:VCALENDAR