BEGIN:VCALENDAR
VERSION:2.0
PRODID:-//Octubre Centre de Cultura Contemporània - ECPv5.1.6//NONSGML v1.0//EN
CALSCALE:GREGORIAN
METHOD:PUBLISH
X-WR-CALNAME:Octubre Centre de Cultura Contemporània
X-ORIGINAL-URL:https://octubre.cat
X-WR-CALDESC:Events for Octubre Centre de Cultura Contemporània
BEGIN:VTIMEZONE
TZID:Europe/Andorra
BEGIN:DAYLIGHT
TZOFFSETFROM:+0100
TZOFFSETTO:+0200
TZNAME:CEST
DTSTART:20150329T010000
END:DAYLIGHT
BEGIN:STANDARD
TZOFFSETFROM:+0200
TZOFFSETTO:+0100
TZNAME:CET
DTSTART:20151025T010000
END:STANDARD
END:VTIMEZONE
BEGIN:VEVENT
DTSTART;TZID=Europe/Andorra:20151223T190000
DTEND;TZID=Europe/Andorra:20151223T190000
DTSTAMP:20260421T023941
CREATED:20200729T171357Z
LAST-MODIFIED:20200730T041553Z
UID:10364-1450897200-1450897200@octubre.cat
SUMMARY:'L'endemà'\, d'Isona Passola
DESCRIPTION:Dimecres 11 de novembre a les 19.00h. Projecció inclosa dins del cicle de cinema Barcelona Escenari 2015 i presentada i comentada per la directora.  \n  \n  \n\n Projecció presentada per la directora.  Segons la directora Isona Passola\, la pel·lícula vol donar arguments sobre la independència de Catalunya clars\, sòlids\, fiables i contrastats\, amb dades objectivables\, per boca de les figures nacionals i internacionals més informades.  Direcció: Isona Passola (2014) Producció: Aleix Castellón i Alba Forn Guió: David Cirici\, Isona Passola i Lluís Reales Música: Albert Guinovart Alguns participants: Jordi Basté\, Germà Bel\, Núria Bosch\, Salvador Cardús\, Guillem López Casasnovas\, Carme Porta\, Ramon Tremosa\, etc. Durada: 90 minuts  Cicle organitzat per l’Octubre Centre de Cultura Contemporània amb el patrocini de l’Institut de Cultura de Barcelona Col·labora: Mostra Viva Direcció del cicle: Antonio Lloréns
URL:https://octubre.cat/activitat/lendema-disona-passola/
LOCATION:Sala d’actes
CATEGORIES:Barcelona escenari 2015 (cinema)
ATTACH;FMTTYPE=image/jpeg:https://octubre.cat/www/wp-content/uploads/2020/07/activitat2428.jpg
END:VEVENT
END:VCALENDAR