BEGIN:VCALENDAR
VERSION:2.0
PRODID:-//Octubre Centre de Cultura Contemporània - ECPv5.1.6//NONSGML v1.0//EN
CALSCALE:GREGORIAN
METHOD:PUBLISH
X-WR-CALNAME:Octubre Centre de Cultura Contemporània
X-ORIGINAL-URL:https://octubre.cat
X-WR-CALDESC:Events for Octubre Centre de Cultura Contemporània
BEGIN:VTIMEZONE
TZID:Europe/Andorra
BEGIN:DAYLIGHT
TZOFFSETFROM:+0100
TZOFFSETTO:+0200
TZNAME:CEST
DTSTART:20190331T010000
END:DAYLIGHT
BEGIN:STANDARD
TZOFFSETFROM:+0200
TZOFFSETTO:+0100
TZNAME:CET
DTSTART:20191027T010000
END:STANDARD
END:VTIMEZONE
BEGIN:VEVENT
DTSTART;TZID=Europe/Andorra:20190911T190000
DTEND;TZID=Europe/Andorra:20190911T190000
DTSTAMP:20260423T101258
CREATED:20200729T173439Z
LAST-MODIFIED:20200729T191208Z
UID:11472-1568228400-1568228400@octubre.cat
SUMMARY:Lectura mundial per la llibertat d'expressió
DESCRIPTION:Dimecres 11 de setembre a les 19.00h. Acte organitzat per l’Associació d’Escriptors en Llengua Catalana i Acció Cultural del País Valencià.	 \n  \n  \n\n 	 El Festival Internacional de Literatura de Berlín fa una crida per fer una lectura conjunta arreu del món per la llibertat d’expressió l’11 de setembre. Nombroses associacions i entitats d’arreu del món s’han adherit a aquesta iniciativa a la que Acció Cultural del País Valencià també ha volgut sumar-se.  Aquest acte està obert a tot el públic en general prèvia inscripció i consisteix en llegir durant un minut un fragment literari que triarà cada participant.  Presenta: Francesc Anyó\, actor  Podeu inscriure-vos a través del correu pepa@acpv.cat o telefoneu de 9h a 14h al 96 315 77 99 en horari de 9h a 14h. Data màxima d’inscripció el 9 de setembre.  Organitzen: AELC i ACPV
URL:https://octubre.cat/activitat/lectura-mundial-per-la-llibertat-dexpressio/
LOCATION:No definit
CATEGORIES:Literatura
ATTACH;FMTTYPE=image/png:https://octubre.cat/www/wp-content/uploads/2020/07/activitat3318.png
END:VEVENT
END:VCALENDAR